BEGIN:VCALENDAR
VERSION:2.0
PRODID:-//ChamberMaster//Event Calendar 2.0//EN
METHOD:PUBLISH
X-PUBLISHED-TTL:P3D
REFRESH-INTERVAL:P3D
CALSCALE:GREGORIAN
BEGIN:VEVENT
DTSTART:20101028T010000Z
DTEND:20101028T030000Z
X-MICROSOFT-CDO-ALLDAYEVENT:FALSE
SUMMARY:October 27\, 2010 - Business to Business at Canadian Western Bank
DESCRIPTION:Business to Business networking reception hosted by Canadian Western Bank.
X-ALT-DESC;FMTTYPE=text/html:Business to Business networking reception hosted by Canadian Western Bank.
LOCATION:Canadian Western Bank Panorama Ridge Branch #103 - 15230 Highway 10 (56 Avenue)\, Surrey
UID:e.749.1678
SEQUENCE:3
DTSTAMP:20260422T114614Z
URL:https://business.swrbot.com/events/details/october-27-2010-business-to-business-at-canadian-western-bank-10-27-2010-1678
END:VEVENT

END:VCALENDAR
