BEGIN:VCALENDAR
VERSION:2.0
PRODID:-//ChamberMaster//Event Calendar 2.0//EN
METHOD:PUBLISH
X-PUBLISHED-TTL:P3D
REFRESH-INTERVAL:P3D
CALSCALE:GREGORIAN
BEGIN:VEVENT
DTSTART:20101028T190000Z
DTEND:20101028T203000Z
X-MICROSOFT-CDO-ALLDAYEVENT:FALSE
SUMMARY:October 28\, 2010 - BCLC CEO Lunch
DESCRIPTION:Business lunch with the CEO of BC Lottery Corporation\, Michael Graydon
X-ALT-DESC;FMTTYPE=text/html:<div>Business lunch with the CEO&nbsp\;of BC&nbsp\;Lottery Corporation\, Michael Graydon</div>
LOCATION:Eaglequest Golf Course7778 152 Street\, Surrey
UID:e.749.1674
SEQUENCE:3
DTSTAMP:20260422T113745Z
URL:https://business.swrbot.com/events/details/october-28-2010-bclc-ceo-lunch-10-28-2010-1674
END:VEVENT

END:VCALENDAR
