BEGIN:VCALENDAR
VERSION:2.0
PRODID:-//ChamberMaster//Event Calendar 2.0//EN
METHOD:PUBLISH
X-PUBLISHED-TTL:P3D
REFRESH-INTERVAL:P3D
CALSCALE:GREGORIAN
BEGIN:VEVENT
DTSTART:20141029T143000Z
DTEND:20141029T160000Z
X-MICROSOFT-CDO-ALLDAYEVENT:FALSE
SUMMARY:October 29\, 2014 - Celebrating a Century of Liquid Waste Services in Metro Vanco
DESCRIPTION:Breaking News - Three Breakfasts this October! \n\n\n\nCelebrating a Century of Liquid Waste Services in Metro Vancouver   Now and Then\n\n\n\nWe've come a long way since the 1911 typhoid outbreaks and beach closures blamed on sewage pollution. Today\, thanks to visionary decisions made by community leaders\, engineers and city planners during the last century\, we have a comprehensive and cost-effective regional sewerage system throughout the Metro Vancouver region.\n\n\n\nHowever\, for the most part\, sewerage services are out of sight and out of mind. We run our dishwashers and flush our toilets\, without considering what happens to the one billion litres of wastewater that go down our sinks and drains in the region each day.\n\n\n\nJoin us for an historical journey of the past 100 years\, and an exploration of impressive technological innovations and improvements that will unfold in the next 100 years.\n\n\n\nWelcoming Remarks: \n\n\n	Linda Hepner\, Director\, Metro Vancouver Board\; Councillor\, City of Surrey \n\n Speakers:\n\n\n	Fred Nenninger\, Manager\, Policy Planning Analysis & Waste Water Treatment Plant Upgrades\, Liquid Waste Services\, Metro Vancouver \n	Jeff Arason\, Manager\, Utilities\, Engineering Department\, City of Surrey  \n	Simon So\, General Manager\, Liquid Waste Services\, Metro Vancouver  \n\n This Metro Vancouver Sustainability Community Breakfast will take place at:\n\n\n\n If you plan to attend\, please RSVP.
X-ALT-DESC;FMTTYPE=text/html:<span style="font-size:12px\;"><span style="font-family: arial\;"><strong>Breaking News - Three Breakfasts this October! </strong><br />\n<br />\n<strong>Celebrating a Century of Liquid Waste Services in Metro Vancouver &ndash\; Now and Then</strong><br />\n<br />\nWe&rsquo\;ve come a long way since the 1911 typhoid outbreaks and beach closures blamed on sewage pollution. Today\, thanks to visionary decisions made by community leaders\, engineers and city planners during the last century\, we have a comprehensive and cost-effective regional sewerage system throughout the Metro Vancouver region.<br />\n<br />\nHowever\, for the most part\, sewerage services are out of sight and out of mind. We run our dishwashers and flush our toilets\, without considering what happens to the one billion litres of wastewater that go down our sinks and drains in the region each day.<br />\n<br />\nJoin us for an historical journey of the past 100 years\, and an exploration of impressive technological innovations and improvements that will unfold in the next 100 years.<br />\n<br />\n<strong>Welcoming Remarks: </strong></span></span>\n\n<ul>\n	<li><span style="font-size:12px\;"><span style="font-family: arial\;"><strong>Linda Hepner</strong><strong>\,</strong> Director\, Metro Vancouver Board\; Councillor\, City of Surrey </span></span></li>\n</ul>\n<span style="font-size:12px\;"><span style="font-family: arial\;"> <strong>Speakers:</strong></span></span>\n\n<ul>\n	<li><span style="font-size:12px\;"><span style="font-family: arial\;"><strong>Fred Nenninger</strong>\, Manager\, Policy Planning Analysis &amp\; Waste Water Treatment Plant Upgrades\, Liquid Waste Services\, Metro Vancouver </span></span></li>\n	<li><span style="font-size:12px\;"><span style="font-family: arial\;"><strong>Jeff Arason</strong>\, Manager\, Utilities\, Engineering Department\, City of Surrey&nbsp\; </span></span></li>\n	<li><span style="font-size:12px\;"><span style="font-family: arial\;"><strong>Simon So</strong>\, General Manager\, Liquid Waste Services\, Metro Vancouver&nbsp\; </span></span></li>\n</ul>\n<span style="font-size:12px\;"><span style="font-family: arial\;"> This Metro Vancouver Sustainability Community Breakfast will take place at:<br />\n<br />\n&nbsp\;If you plan to attend\, please <a href="http://apps2.metrovancouver.org/sustainability/Smailing_list/EventRegistration.asp?EventID=218">RSVP.</a></span></span><br />\n<br />\n&nbsp\;
LOCATION:Sheraton Vancouver Guildford Hotel 15268 104th Ave Surrey\, BC
UID:e.749.2801
SEQUENCE:3
DTSTAMP:20260425T162956Z
URL:https://business.swrbot.com/events/details/october-29-2014-celebrating-a-century-of-liquid-waste-services-in-metro-vanco-10-29-2014-2801
END:VEVENT

END:VCALENDAR
