BEGIN:VCALENDAR
VERSION:2.0
PRODID:-//ChamberMaster//Event Calendar 2.0//EN
METHOD:PUBLISH
X-PUBLISHED-TTL:P3D
REFRESH-INTERVAL:P3D
CALSCALE:GREGORIAN
BEGIN:VEVENT
DTSTART:20141030T003000Z
DTEND:20141030T033000Z
X-MICROSOFT-CDO-ALLDAYEVENT:FALSE
SUMMARY:October 29\, 2014 - City Election 2014 Candidates Busines Dialogue
DESCRIPTION:City Election 2014 Candidates Business Dialogue\n\n\n\nThe Surrey Board of Trade is asking business leaders\, their staff\, and the community to meet Surrey Council candidates.\n\n\n\n The meeting will be organized by focusing on 7 key areas:\n\n\n\n1. Crime (Panelist: Sandra Benz\, Fraser Valley Real Estate Board)\n\n2. Environment (Panelist: Jay Rao\, Levelton Consultants Ltd.)\n\n3. Industry (Panelist: Gerard Bremault\, Centre for Child Development)\n\n4. International (Panelist: Dr. Greg Thomas\, G3 Consulting Ltd.)\n\n5. Social Policy (Panelist: Doug Tennant\, Semiahmoo House Society)\n\n6. Taxation (Panelist: Richard Dendy\, BMO Bank of Montreal)\n\n7. Transportation (Panelist: Bill Wehnert\, Fraser Surrey Docks\, LP)
X-ALT-DESC;FMTTYPE=text/html:<span style="font-size:12px\;"><span style="font-family: arial\;"><strong>City Election 2014 Candidates Business Dialogue</strong></span></span><br />\n<br />\n<span style="font-size:12px\;"><span style="font-family: arial\;"><strong>The Surrey Board of Trade is asking business leaders\, their staff\, and the community to meet Surrey Council candidates.</strong></span></span><br />\n<br />\n&nbsp\;The meeting will be organized by focusing on 7 key areas:<br />\n<br />\n1. <strong>Crime</strong> (Panelist: Sandra Benz\, Fraser Valley Real Estate Board)<br />\n2. <strong>Environment</strong> (Panelist: Jay Rao\, Levelton Consultants Ltd.)<br />\n3. <strong>Industry</strong> (Panelist: Gerard Bremault\, Centre for Child Development)<br />\n4. <strong>International </strong>(Panelist: Dr. Greg Thomas\, G3 Consulting Ltd.)<br />\n5. <strong>Social Policy</strong> (Panelist: Doug Tennant\, Semiahmoo House Society)<br />\n6. <strong>Taxation</strong> (Panelist: Richard Dendy\, BMO Bank of Montreal)<br />\n7. <strong>Transportation</strong> (Panelist: Bill Wehnert\, Fraser Surrey Docks\, LP)
LOCATION:Eaglequest Golf Course 7778 152 St Surrey\, BC
UID:e.749.2628
SEQUENCE:3
DTSTAMP:20260425T162827Z
URL:https://business.swrbot.com/events/details/october-29-2014-city-election-2014-candidates-busines-dialogue-10-29-2014-2628
END:VEVENT

END:VCALENDAR
