BEGIN:VCALENDAR
VERSION:2.0
PRODID:-//ChamberMaster//Event Calendar 2.0//EN
METHOD:PUBLISH
X-PUBLISHED-TTL:P3D
REFRESH-INTERVAL:P3D
CALSCALE:GREGORIAN
BEGIN:VEVENT
DTSTART:20141029T144500Z
DTEND:20141029T163000Z
X-MICROSOFT-CDO-ALLDAYEVENT:FALSE
SUMMARY:October 29\, 2014 - Surrey Sign Bylaws Workshop
DESCRIPTION:Surrey Sign Bylaws Workshop\n\n\n\nJoin us as we learn the new rules and regulations surrounding sign bylaws in the City of Surrey.
X-ALT-DESC;FMTTYPE=text/html:<strong>Surrey Sign Bylaws Workshop</strong><br />\n<br />\nJoin us as we learn the new rules and regulations surrounding sign bylaws in the City of Surrey. &nbsp\;\n<p style="font-size:13px\;color:rgb(0\,102\,0)\;margin:0px">&nbsp\;</p>\n
LOCATION:Surrey Board of Trade Conference Room 101 - 14439 104th Ave Surrey\, BC
UID:e.749.2760
SEQUENCE:3
DTSTAMP:20260425T151646Z
URL:https://business.swrbot.com/events/details/october-29-2014-surrey-sign-bylaws-workshop-10-29-2014-2760
END:VEVENT

END:VCALENDAR
