BEGIN:VCALENDAR
VERSION:2.0
PRODID:-//ChamberMaster//Event Calendar 2.0//EN
METHOD:PUBLISH
X-PUBLISHED-TTL:P3D
REFRESH-INTERVAL:P3D
CALSCALE:GREGORIAN
BEGIN:VEVENT
DTSTART:20171004T003000Z
DTEND:20171004T030000Z
X-MICROSOFT-CDO-ALLDAYEVENT:FALSE
SUMMARY:October 3\, 2017 - Business and the Arts Reception
DESCRIPTION:Attend the 14th Annual Business and the Arts Reception!\n\n\nYou and a guest are invited to the 10th Annual Surrey Civic Treasures Award Presentation at the Surrey Arts Centre\, where you'll meet Mayor and Council and applaud Surrey's newest Civic Treasures! The evening will include:\n\n\n	Music by Benny and the Good Men\n	More music by Desir e Dawson\, CBC's Searchlight Competition winner of 2016\, who will bring her ukulele\, soulful tunes\, and powerful voice to entertain you!\n	A night emceed by Ren e Sarojini Saklikar\, Surrey's Poet Laureate\n	A chance to win a gorgeous gift basket!\n\n\n \n\nJoin us for an energetic evening of networking\, food\, and entertainment!\np.p1 {margin: 0.0px 0.0px 0.0px 0.0px\; font: 12.0px 'Univers LT Std'\; min-height: 14.0px}\np.p2 {margin: 0.0px 0.0px 0.0px 0.0px\; line-height: 12.1px\; font: 14.0px 'Univers LT Std'\; color: #7f8183}\np.p3 {margin: 0.0px 0.0px 0.0px 0.0px\; font: 14.0px 'Univers LT Std'\; color: #7f8183}\np.p4 {margin: 0.0px 0.0px 0.0px 0.0px\; font: 14.0px 'Univers LT Std'\; color: #7f8183\; min-height: 17.0px}\np.p5 {margin: 0.0px 0.0px 0.0px 0.0px\; line-height: 14.1px\; font: 14.0px 'Univers LT Std'\; color: #7f8183}\nspan.s1 {font: 12.0px 'Univers LT Std'\; color: #000000}
X-ALT-DESC;FMTTYPE=text/html:<span style="font-size: 22px\;"><span style="font-family: arial\;"><strong>Attend the&nbsp\;14th&nbsp\;Annual Business and the Arts Reception!</strong></span></span>\n<p class="p2"><br />\n<span style="font-family:arial\;"><span style="color:#000000\;">You and a guest are invited to the 10th Annual Surrey Civic Treasures Award Presentation at the Surrey Arts Centre\, where you&rsquo\;ll meet Mayor and Council and applaud Surrey&rsquo\;s newest Civic Treasures! The evening will include:</span></span></p>\n\n<ul>\n	<li class="p3"><span style="font-size:14px\;">Music by Benny and the Good Men</span></li>\n	<li class="p3"><span style="font-size:14px\;">More music by Desir&eacute\;e Dawson\, CBC&rsquo\;s Searchlight Competition winner of 2016\, who will bring her ukulele\, soulful tunes\, and powerful voice to entertain you!</span></li>\n	<li class="p3"><span style="font-size:14px\;">A night emceed by Ren&eacute\;e Sarojini Saklikar\, Surrey&rsquo\;s Poet Laureate</span></li>\n	<li class="p3"><span style="font-size:14px\;">A chance to win a gorgeous gift basket!</span></li>\n</ul>\n\n<p class="p4">&nbsp\;</p>\n\n<p class="p5"><span style="font-family:arial\;"><span style="color:#000000\;">Join us for an energetic evening of networking\, food\, and entertainment!</span></span></p>\n<style type="text/css">p.p1 {margin: 0.0px 0.0px 0.0px 0.0px\; font: 12.0px 'Univers LT Std'\; min-height: 14.0px}\np.p2 {margin: 0.0px 0.0px 0.0px 0.0px\; line-height: 12.1px\; font: 14.0px 'Univers LT Std'\; color: #7f8183}\np.p3 {margin: 0.0px 0.0px 0.0px 0.0px\; font: 14.0px 'Univers LT Std'\; color: #7f8183}\np.p4 {margin: 0.0px 0.0px 0.0px 0.0px\; font: 14.0px 'Univers LT Std'\; color: #7f8183\; min-height: 17.0px}\np.p5 {margin: 0.0px 0.0px 0.0px 0.0px\; line-height: 14.1px\; font: 14.0px 'Univers LT Std'\; color: #7f8183}\nspan.s1 {font: 12.0px 'Univers LT Std'\; color: #000000}\n</style>\n
LOCATION:Surrey Arts Centre 13750 88 Avenue
UID:e.749.5156
SEQUENCE:3
DTSTAMP:20260421T192401Z
URL:https://business.swrbot.com/events/details/october-3-2017-business-and-the-arts-reception-10-03-2017-5156
END:VEVENT

END:VCALENDAR
