BEGIN:VCALENDAR
VERSION:2.0
PRODID:-//ChamberMaster//Event Calendar 2.0//EN
METHOD:PUBLISH
X-PUBLISHED-TTL:P3D
REFRESH-INTERVAL:P3D
CALSCALE:GREGORIAN
BEGIN:VEVENT
DTSTART:20181030T143000Z
DTEND:20181030T170000Z
X-MICROSOFT-CDO-ALLDAYEVENT:FALSE
SUMMARY:October 30\, 2018 - Development Industry Forum
DESCRIPTION:The Surrey Board of Trade will host the 2nd Surrey Development Industry Forum on October 30\, at the Sheraton Hotel (15269-104 Avenue) from 7:30 - 9:30 a.m.\n\n"The Surrey Board of Trade will release its results in its 2nd Government Red Tape Survey and have its speakers address the development industry in Surrey (construction\, developers\, architects\, engineers\, others) on their perspectives on place making\, the recent election\, and economic development\," said Anita Huberman\, CEO\, Surrey Board of Trade. \n\n\n\nThe Surrey Board of Trade started this event to have a collaborative dialogue with city officials and the development industry to ensure Surrey continues to be the best place to invest in.\n\n\n\nPanelists:\n\n\n\n	Michael Geller   Vancouver-based Architect\, Real Estate Consultant and Property Developer\n	Ozzie Jurock   Author\, Chairman of Real Estate Action Group and Jurock Case Investment Realty Inc. and President of Jurock Publishing Ltd.\n\nReserve your seats now!\n\n \nEvent payment is due upon registration. Cancellations for event attendance\, sponsorship\, or exhibitor space will not be refunded. An event registration is considered a commitment to pay. While event registration is non-refundable\, cancellations before three full business days of the event may be eligible for a credit towards a future event. Some exclusions apply.
X-ALT-DESC;FMTTYPE=text/html:<div style="text-align: justify\;">\n<p new="" times="">The Surrey Board of Trade will host the&nbsp\;<a data-saferedirecturl="https://www.google.com/url?q=https://business.businessinsurrey.com/events/details/october-30-2018-development-industry-forum-6641&amp\;source=gmail&amp\;ust=1540501427441000&amp\;usg=AFQjCNE9LEkfYyGzL6ODA4z2Kbznf7QeZg" href="https://business.businessinsurrey.com/events/details/october-30-2018-development-industry-forum-6641" target="_blank">2nd&nbsp\;Surrey Development Industry Forum</a>&nbsp\;on October 30\, at the Sheraton Hotel (15269-104 Avenue) from 7:30 - 9:30 a.m.</p>\n\n<div style="color: rgb(34\, 34\, 34)\; font-family: Arial\, Helvetica\, sans-serif\; font-size: small\; font-style: normal\; margin-left: 40px\;">&ldquo\;The Surrey Board of Trade will release its results in its 2nd&nbsp\;Government Red Tape Survey and have its speakers address the development industry in Surrey (construction\, developers\, architects\, engineers\, others) on their perspectives on place making\, the recent election\, and economic development\,&rdquo\; said Anita Huberman\, CEO\, Surrey Board of Trade.&nbsp\;<br />\n<br />\nThe Surrey Board of Trade started this event to have a collaborative dialogue with city officials and the development industry to ensure Surrey continues to be the best place to invest in.</div>\n\n<div><br />\n<strong>Panelists:</strong></div>\n\n<div>\n<ol>\n	<li>Michael Geller &ndash\; Vancouver-based Architect\, Real Estate Consultant and Property Developer</li>\n	<li>Ozzie Jurock &ndash\; Author\, Chairman of Real Estate Action Group and Jurock Case Investment Realty Inc. and President of Jurock Publishing Ltd.</li>\n</ol>\n<span style="font-size:14px\;">Reserve your seats now!</span><br />\n&nbsp\;\n<hr /><em><span style="color: rgb(34\, 34\, 34)\; font-family: Arial\, Helvetica\, sans-serif\; font-size: small\;">Event payment is due upon registration. Cancellations for event attendance\, sponsorship\, or exhibitor space will not be refunded. An event registration is considered a commitment to pay. While event registration is non-refundable\, cancellations before three full business days of the event may be eligible for a credit towards a future event. Some exclusions apply.</span></em></div>\n\n<div class="adL" style="color: rgb(34\, 34\, 34)\; font-family: arial\, sans-serif\; font-size: 12.8px\;">\n<div><br />\n&nbsp\;</div>\n</div>\n</div>\n
LOCATION:Sheraton Vancouver Guildford Hotel 15269 104 Ave\, Surrey\, BC
UID:e.749.6641
SEQUENCE:3
DTSTAMP:20260421T042319Z
URL:https://business.swrbot.com/events/details/october-30-2018-development-industry-forum-10-30-2018-6641
END:VEVENT

END:VCALENDAR
