BEGIN:VCALENDAR
VERSION:2.0
PRODID:-//ChamberMaster//Event Calendar 2.0//EN
METHOD:PUBLISH
X-PUBLISHED-TTL:P3D
REFRESH-INTERVAL:P3D
CALSCALE:GREGORIAN
BEGIN:VEVENT
DTSTART:20141031T144500Z
DTEND:20141031T170000Z
X-MICROSOFT-CDO-ALLDAYEVENT:FALSE
SUMMARY:October 31\, 2014 - Developing a Culture of Continuous Improvement Pt 2
DESCRIPTION:Developing a Culture of Continuous Improvement (Part 2)\n\nA Manufacturing Industry Series\n\n\n\nIt's a constant struggle\, we are always too busy fighting fires and fixing mistakes (quite often the same mistakes over and over again). How do we find the time to make any substantial improvements to our business. Imagine if every employee in your company was a good problem solver. Imagine your role as coach and resource\, not the solver of all problems. This 3 part series will help you develop your people as problem solvers and put you on the road towards Continuous Improvement.\n\n\n\nTopic: The Power of Metrics\n\n  Understand how metrics drive behavior and performance.\n\n  Understand the importance of aligning metrics with overall strategy.\n\n  Learn where\, when\, and how to collect meaningful metrics and how to effectively share the data.\n\n  Understand basic differences between traditional and lean metrics.
X-ALT-DESC;FMTTYPE=text/html:<strong>Developing a Culture of Continuous Improvement</strong> (Part 2)<br />\nA Manufacturing Industry Series<br />\n<br />\nIt&rsquo\;s a constant struggle\, we are always too busy fighting fires and fixing mistakes (quite often the same mistakes over and over again). How do we find the time to make any substantial improvements to our business. Imagine if every employee in your company was a good problem solver. Imagine your role as coach and resource\, not the solver of all problems. This 3 part series will help you develop your people as problem solvers and put you on the road towards Continuous Improvement.<br />\n<br />\n<strong>Topic: The Power of Metrics</strong><br />\n&bull\; Understand how metrics drive behavior and performance.<br />\n&bull\; Understand the importance of aligning metrics with overall strategy.<br />\n&bull\; Learn where\, when\, and how to collect meaningful metrics and how to effectively share the data.<br />\n&bull\; Understand basic differences between traditional and lean metrics.<br />\n&nbsp\;
LOCATION:Surrey Board of Trade Conference Room 101 - 14439 104th Ave\, Surrey
UID:e.749.2735
SEQUENCE:3
DTSTAMP:20260425T152423Z
URL:https://business.swrbot.com/events/details/october-31-2014-developing-a-culture-of-continuous-improvement-pt-2-10-31-2014-2735
END:VEVENT

END:VCALENDAR
