BEGIN:VCALENDAR
VERSION:2.0
PRODID:-//ChamberMaster//Event Calendar 2.0//EN
METHOD:PUBLISH
X-PUBLISHED-TTL:P3D
REFRESH-INTERVAL:P3D
CALSCALE:GREGORIAN
BEGIN:VEVENT
DTSTART:20181005T010000Z
DTEND:20181005T043000Z
X-MICROSOFT-CDO-ALLDAYEVENT:FALSE
SUMMARY:October 4\, 2018 - 22nd Annual Surrey Police Officer of the Year Awards - PARKING INCLUDED
DESCRIPTION:Join us for the 22nd Anniversary event on Thursday\, October 4\, 2018!\n\n\n\nCelebrate the achievements of the Surrey RCMP and their partners with dinner\, awards presentations and musical entertainment.\n\n\n\nAwards will be presented in the following categories:\n\n	Police Municipal Employee of the Year\n	Police Volunteer of the Year\n	Police and Business Partnership Award\n	Police Officer of the Year - nominated by peers\n	Police Officer of the Year - nominated by the community\n	Auxiliary Constable of the Year\n	Arnold Silzer Community Policing Initiative Award\n	Police Team Award\n\nA donation from the event is made to the RCMP's Lower Mainland Youth Academy.
X-ALT-DESC;FMTTYPE=text/html:<span style="font-size:20px\;"><strong>Join us for the 22nd&nbsp\;Anniversary event on Thursday\, October 4\, 2018!</strong></span><br />\n<br />\nCelebrate the achievements of the Surrey RCMP and their partners with dinner\, awards presentations and musical entertainment.<br />\n<br />\nAwards will be presented in the following categories:\n<ol>\n	<li><strong>Police Municipal Employee of the Year</strong></li>\n	<li><strong>Police Volunteer of the Year</strong></li>\n	<li><strong>Police and Business Partnership Award</strong></li>\n	<li><strong>Police Officer of the Year - nominated by peers</strong></li>\n	<li><strong>Police Officer of the Year - nominated by the community</strong></li>\n	<li><strong>Auxiliary Constable of the Year</strong></li>\n	<li><strong>Arnold Silzer Community Policing Initiative Award</strong></li>\n	<li><strong>Police Team Award</strong></li>\n</ol>\n<em>A donation from the event is made to the RCMP&#39\;s Lower Mainland Youth Academy.</em><br />\n&nbsp\;
LOCATION:Sheraton Vancouver Guildford Hotel 15269 104 Avenue\, Surrey
UID:e.749.5523
SEQUENCE:3
DTSTAMP:20260421T043704Z
URL:https://business.swrbot.com/events/details/october-4-2018-22nd-annual-surrey-police-officer-of-the-year-awards-parking-included-10-04-2018-5523
END:VEVENT

END:VCALENDAR
