BEGIN:VCALENDAR
VERSION:2.0
PRODID:-//ChamberMaster//Event Calendar 2.0//EN
METHOD:PUBLISH
X-PUBLISHED-TTL:P3D
REFRESH-INTERVAL:P3D
CALSCALE:GREGORIAN
BEGIN:VEVENT
DTSTART:20171006T010000Z
DTEND:20171006T043000Z
X-MICROSOFT-CDO-ALLDAYEVENT:FALSE
SUMMARY:October 5\, 2017 - 21st Annual Surrey Police Officer of the Year Awards
DESCRIPTION:Join us for the 21st Anniversary event on Thursday\, October 5\, 2017!\n\n\n\nCelebrate the achievements of the Surrey RCMP and their partners with dinner\, awards presentations and musical entertainment.\n\n\n\nHear from Jim Zorn\, former Seattle Seahawks quarterback and one of the most successful football coaches in history.\n\nThis event will feature Steve Darling\, Sportsnet 650\, as Master of Ceremonies.\n\n\n\nAwards will be presented in the following categories:\n\n	Police Municipal Employee of the Year\n	Police Volunteer of the Year\n	Police and Business Partnership Award\n	Police Officer of the Year - nominated by peers\n	Police Officer of the Year - nominated by the community\n	Auxiliary Constable of the Year\n	Arnold Silzer Community Policing Initiative Award\n	Police Team Award\n\nA donation from the event is made to the RCMP's Lower Mainland Youth Academy.
X-ALT-DESC;FMTTYPE=text/html:<span style="font-size:20px\;"><strong>Join us for the 21st Anniversary event on Thursday\, October 5\, 2017!</strong></span><br />\n<br />\nCelebrate the achievements of the Surrey RCMP and their partners with dinner\, awards presentations and musical entertainment.<br />\n<br />\nHear from <strong>Jim Zorn</strong>\, former <strong>Seattle Seahawks quarterback</strong> and one of the most successful football coaches in history.<br />\nThis event will feature <strong>Steve Darling</strong>\, Sportsnet 650\, as Master of Ceremonies.<br />\n<br />\nAwards will be presented in the following categories:\n<ol>\n	<li><strong>Police Municipal Employee of the Year</strong></li>\n	<li><strong>Police Volunteer of the Year</strong></li>\n	<li><strong>Police and Business Partnership Award</strong></li>\n	<li><strong>Police Officer of the Year - nominated by peers</strong></li>\n	<li><strong>Police Officer of the Year - nominated by the community</strong></li>\n	<li><strong>Auxiliary Constable of the Year</strong></li>\n	<li><strong>Arnold Silzer Community Policing Initiative Award</strong></li>\n	<li><strong>Police Team Award</strong></li>\n</ol>\n<em>A donation from the event is made to the RCMP&#39\;s Lower Mainland Youth Academy.</em><br />\n&nbsp\;
LOCATION:Sheraton Vancouver Guildford Hotel 15269 104 Avenue\, Surrey
UID:e.749.5299
SEQUENCE:3
DTSTAMP:20260421T192734Z
URL:https://business.swrbot.com/events/details/october-5-2017-21st-annual-surrey-police-officer-of-the-year-awards-10-05-2017-5299
END:VEVENT

END:VCALENDAR
