BEGIN:VCALENDAR
VERSION:2.0
PRODID:-//ChamberMaster//Event Calendar 2.0//EN
METHOD:PUBLISH
X-PUBLISHED-TTL:P3D
REFRESH-INTERVAL:P3D
CALSCALE:GREGORIAN
BEGIN:VEVENT
DTSTART:20141008T010000Z
DTEND:20141008T030000Z
X-MICROSOFT-CDO-ALLDAYEVENT:FALSE
SUMMARY:October 7\, 2014 - 11th Annual Business and the Arts Reception
DESCRIPTION:11th Annual Business and the Arts Networking Reception\n\n\n\nHosted by the Surrey Arts Centre!\n\n	Meet Surrey City Council!\n	Enjoy a fast-paced evening of networking\, refreshments and prizes!\n	Honour Surrey's new Civic Treasures!\n	See a preview of 6 Guitars - Winner of the Vancouver Fringe Festival Critics' Choice Award!\n	Make New Business Contacts!
X-ALT-DESC;FMTTYPE=text/html:11th Annual Business and the Arts Networking Reception<br />\n<br />\nHosted by the Surrey Arts Centre!\n<ul>\n	<li>Meet Surrey City Council!</li>\n	<li>Enjoy a fast-paced evening of networking\, refreshments and prizes!</li>\n	<li>Honour Surrey&#39\;s new Civic Treasures!</li>\n	<li>See a preview of 6 Guitars - Winner of the Vancouver Fringe Festival Critics&#39\; Choice Award!</li>\n	<li>Make New Business Contacts!</li>\n</ul>\n
LOCATION:Surrey Arts Centre 13750 88th Ave Surrey\, BC
UID:e.749.2604
SEQUENCE:3
DTSTAMP:20260425T162828Z
URL:https://business.swrbot.com/events/details/october-7-2014-11th-annual-business-and-the-arts-reception-10-07-2014-2604
END:VEVENT

END:VCALENDAR
