BEGIN:VCALENDAR
VERSION:2.0
PRODID:-//ChamberMaster//Event Calendar 2.0//EN
METHOD:PUBLISH
X-PUBLISHED-TTL:P3D
REFRESH-INTERVAL:P3D
CALSCALE:GREGORIAN
BEGIN:VEVENT
DTSTART:20141007T143000Z
DTEND:20141007T180000Z
X-MICROSOFT-CDO-ALLDAYEVENT:FALSE
SUMMARY:October 7\, 2014 - CME: Be Smart Managing your Energy Budget
DESCRIPTION:Be Smart Managing your Energy Budget - a Workshop with BC Hydro and Fortis BC\n\n\n\nOverview:\n\nCanadian Manufacturers and Exporters\, British Columbia\, together with BC Hydro and FortisBC\, invite you to a morning breakfast event that will help you understand how you can lower energy costs\, while improving profitability and your company's green reputation.\n\n\n\nHighlights:\n\n Learn about electric and gas energy management and how to get started - Gain a solid understanding of utility incentives and resources that are available to you - Leave with tools\, strategies and ideas to implement at your facility - Connect with industry peers\n\n\n\nWHO SHOULD ATTEND:\n\nIf you are an owner or operations/finance manager of a small-to-medium sized manufacturing firm\, located in BC\, this is a workshop you want to attend.\n\n\n\nMANUFACTURING MATTERS! OCTOBER IS MANUFACTURING MONTH!\n\nCanadian Manufacturers & Exporters is the country's leading trade and industry association\, serving as the voice of 10\,000 leading companies. In British Columbia manufacturing is the fourth largest contributor to the provincial GDP and the third largest employer. Manufacturing contributes 30% of the business tax revenue paid to government\, 42% of private sector research and development and almost 65% of BC's exports. Visit www.bc.cme-mec.ca to learn more about opportunities in this vibrant sector and about the events of Manufacturing Month in October and beyond.
X-ALT-DESC;FMTTYPE=text/html:<strong>Be Smart Managing your Energy Budget - a Workshop with BC Hydro and Fortis BC<br />\n<br />\nOverview:</strong><br />\nCanadian Manufacturers and Exporters\, British Columbia\, together with BC Hydro and FortisBC\, invite you to a morning breakfast event that will help you understand how you can lower energy costs\, while improving profitability and your company&rsquo\;s green reputation.<br />\n<br />\n<strong>Highlights:</strong><br />\n&nbsp\;Learn about electric and gas energy management and how to get started - Gain a solid understanding of utility incentives and resources that are available to you - Leave with tools\, strategies and ideas to implement at your facility - Connect with industry peers<br />\n<br />\n<strong>WHO SHOULD ATTEND:</strong><br />\nIf you are an owner or operations/finance manager of a small-to-medium sized manufacturing firm\, located in BC\, this is a workshop you want to attend.<br />\n<br />\n<strong>MANUFACTURING MATTERS! OCTOBER IS MANUFACTURING MONTH!</strong><br />\nCanadian Manufacturers &amp\; Exporters is the country&#39\;s leading trade and industry association\, serving as the voice of 10\,000 leading companies. In British Columbia manufacturing is the fourth largest contributor to the provincial GDP and the third largest employer. Manufacturing contributes 30% of the business tax revenue paid to government\, 42% of private sector research and development and almost 65% of BC&#39\;s exports. Visit www.bc.cme-mec.ca to learn more about opportunities in this vibrant sector and about the events of Manufacturing Month in October and beyond.<br />\n<br />\n&nbsp\;
LOCATION:BC Hydro Edmonds Complex 6911 Southpoint Drive\, Burnaby
UID:e.749.2773
SEQUENCE:3
DTSTAMP:20260425T152929Z
URL:https://business.swrbot.com/events/details/october-7-2014-cme-be-smart-managing-your-energy-budget-10-07-2014-2773
END:VEVENT

END:VCALENDAR
