BEGIN:VCALENDAR
VERSION:2.0
PRODID:-//ChamberMaster//Event Calendar 2.0//EN
METHOD:PUBLISH
X-PUBLISHED-TTL:P3D
REFRESH-INTERVAL:P3D
CALSCALE:GREGORIAN
BEGIN:VEVENT
DTSTART:20141007T160000Z
DTEND:20141007T172500Z
X-MICROSOFT-CDO-ALLDAYEVENT:FALSE
SUMMARY:October 7\, 2014-Press Conference-Releasing the Results of Surrey's perception t
DESCRIPTION:PRESS CONFERENCE\n\n\n\nReleasing the Results of Surrey's perception to reality study. Unveiling the results of Surrey's first Vital Signs study.\n\n\n\nDoes Surrey make the grade?\n\nFind out how residents rate life in BC's fastest growing community.\n\n\n\nThe surprising results of a landmark study on Surrey will be released on October 7th. It examines broad-reaching research on quality of life and compares it with the results of a public opinion survey.\n\n\n\nWhat are Surrey's top 11 issues?\n\nHow did residents 'grade' their community?\n\n\n\nPlease join us and our partners\, the Surrey Board of Trade and Simon Fraser University\, as we reveal the results of Surrey's first Vital Signs report.\n\n\n\nWhat:      Unveiling of Surrey's first Vital Signs study\n\n\n\nWho:      Jeff Hector\, President\, SurreyCares\n\n               Anita Huberman\, CEO\, Surrey Board of Trade
X-ALT-DESC;FMTTYPE=text/html:<b><b>PRESS CONFERENCE<br />\n<br />\nReleasing the Results of Surrey&rsquo\;s perception to reality study. Unveiling the results of Surrey&rsquo\;s first Vital Signs study.<br />\n<br />\nDoes Surrey make the grade?<br />\nFind out how residents rate life in BC&rsquo\;s fastest growing community.<br />\n<br />\nThe surprising results of a landmark study on Surrey will be released on <span class="aBn" data-term="goog_1060490611" tabindex="0"><span class="aQJ">October 7th</span></span>. It examines broad-reaching research on quality of life and compares it with the results of a public opinion survey.<br />\n<br />\nWhat are Surrey&rsquo\;s top 11 issues?<br />\nHow did residents &lsquo\;grade&rsquo\; their community?<br />\n<br />\nPlease join us and our partners\, the Surrey Board of Trade and Simon Fraser University\, as we reveal the results of Surrey&rsquo\;s first Vital Signs report.<br />\n<br />\nWhat:&nbsp\;&nbsp\;&nbsp\;&nbsp\;&nbsp\; Unveiling of Surrey&rsquo\;s first Vital Signs study<br />\n<br />\nWho:&nbsp\;&nbsp\;&nbsp\;&nbsp\;&nbsp\; Jeff Hector\, President\, SurreyCares<br />\n&nbsp\;&nbsp\;&nbsp\;&nbsp\;&nbsp\;&nbsp\;&nbsp\;&nbsp\;&nbsp\;&nbsp\;&nbsp\;&nbsp\;&nbsp\;&nbsp\; Anita Huberman\, CEO\, Surrey Board of Trade</b></b><br />\n<br />\n&nbsp\;
LOCATION:Surrey Arts Centre 13750 88 Ave Studio Theatre Surrey\, BC
UID:e.749.2799
SEQUENCE:3
DTSTAMP:20260425T153105Z
URL:https://business.swrbot.com/events/details/october-7-2014-press-conference-releasing-the-results-of-surrey-s-perception-t-10-07-2014-2799
END:VEVENT

END:VCALENDAR
