BEGIN:VCALENDAR
VERSION:2.0
PRODID:-//ChamberMaster//Event Calendar 2.0//EN
METHOD:PUBLISH
X-PUBLISHED-TTL:P3D
REFRESH-INTERVAL:P3D
CALSCALE:GREGORIAN
BEGIN:VEVENT
DTSTART:20141008T143000Z
DTEND:20141008T160000Z
X-MICROSOFT-CDO-ALLDAYEVENT:FALSE
SUMMARY:October 8\, 2014 - Celebrating a Century of Liquid Waste Services in Metro Vanco
DESCRIPTION:Breaking News - Three Breakfasts this October! \n\n\n\nCelebrating a Century of Liquid Waste Services in Metro Vancouver   Now and Then\n\n\n\nWednesday\, October 8\, 2014  7:30 - 9:00 am\n\nEagles Hall\, 170 West 3rd Street\, North Vancouver\n\n\n\nWe've come a long way since the 1911 typhoid outbreaks and beach closures blamed on sewage pollution. Today\, thanks to visionary decisions made by community leaders\, engineers and city planners during the last century\, we have a comprehensive and cost-effective regional sewerage system throughout the Metro Vancouver region.\n\n\n\nHowever\, for the most part\, sewerage services are out of sight and out of mind. We run our dishwashers and flush our toilets\, without considering what happens to the one billion litres of wastewater that go down our sinks and drains in the region each day.\n\n\n\nJoin us for an historical journey of the past 100 years\, and an exploration of impressive technological innovations and improvements that will unfold in the next 100 years.\n\n\n\nWelcoming Remarks: \n\n\n	Darrell Mussatto\, Chair\, Utilities Committee\, Metro Vancouver\; Mayor\, City of North Vancouver\n\n Speakers:\n\n\n	Fred Nenninger\, Manager\, Policy Planning Analysis & Waste Water Treatment Plant Upgrades\, Liquid Waste Services\, Metro Vancouver  \n	Simon So\, General Manager\, Liquid Waste Services\, Metro Vancouver   \n\n This Metro Vancouver Sustainability Community Breakfast will take place at:\n\n\n\nIf you plan to attend please RSVP
X-ALT-DESC;FMTTYPE=text/html:<span style="font-size:12px\;"><span style="font-family: arial\;"><strong>Breaking News - Three Breakfasts this October! </strong><br />\n<br />\n<strong>Celebrating a Century of Liquid Waste Services in Metro Vancouver &ndash\; Now and Then</strong><br />\n<br />\n<span data-term="goog_1631976503" tabindex="0">Wednesday\, October 8\, 2014&nbsp\; 7:30 - 9:00 am</span><br />\nEagles Hall\, 170 West 3rd Street\, North Vancouver<br />\n<br />\nWe&rsquo\;ve come a long way since the 1911 typhoid outbreaks and beach closures blamed on sewage pollution. Today\, thanks to visionary decisions made by community leaders\, engineers and city planners during the last century\, we have a comprehensive and cost-effective regional sewerage system throughout the Metro Vancouver region.<br />\n<br />\nHowever\, for the most part\, sewerage services are out of sight and out of mind. We run our dishwashers and flush our toilets\, without considering what happens to the one billion litres of wastewater that go down our sinks and drains in the region each day.<br />\n<br />\nJoin us for an historical journey of the past 100 years\, and an exploration of impressive technological innovations and improvements that will unfold in the next 100 years.<br />\n<br />\n<strong>Welcoming Remarks: </strong></span></span>\n\n<ul>\n	<li><span style="font-size:12px\;"><span style="font-family: arial\;"><strong>Darrell Mussatto</strong><strong>\,</strong> Chair\, Utilities Committee\, Metro Vancouver\; Mayor\, City of North Vancouver</span></span></li>\n</ul>\n<span style="font-size:12px\;"><span style="font-family: arial\;"> <strong>Speakers:</strong></span></span>\n\n<ul>\n	<li><span style="font-size:12px\;"><span style="font-family: arial\;"><strong>Fred Nenninger</strong>\, Manager\, Policy Planning Analysis &amp\; Waste Water Treatment Plant Upgrades\, Liquid Waste Services\, Metro Vancouver&nbsp\; </span></span></li>\n	<li><span style="font-size:12px\;"><span style="font-family: arial\;"><span style="font-size:12px\;"><span style="font-family: arial\;"><strong>Simon So</strong>\, General Manager\, Liquid Waste Services\, Metro Vancouver&nbsp\; </span></span> </span></span></li>\n</ul>\n<span style="font-size:12px\;"><span style="font-family: arial\;"> This Metro Vancouver Sustainability Community Breakfast will take place at:<br />\n<br />\n<strong>If you plan to attend</strong> please <a href="http://apps2.metrovancouver.org/sustainability/Smailing_list/EventRegistration.asp?EventID=217">RSVP&nbsp\;</a><br />\n<br />\n<em>&nbsp\;</em></span></span><br />\n&nbsp\;
LOCATION:Eagles Hall 170 West 3rd Street North Vancouver
UID:e.749.2800
SEQUENCE:3
DTSTAMP:20260425T153309Z
URL:https://business.swrbot.com/events/details/october-8-2014-celebrating-a-century-of-liquid-waste-services-in-metro-vanco-10-08-2014-2800
END:VEVENT

END:VCALENDAR
