BEGIN:VCALENDAR
VERSION:2.0
PRODID:-//ChamberMaster//Event Calendar 2.0//EN
METHOD:PUBLISH
X-PUBLISHED-TTL:P3D
REFRESH-INTERVAL:P3D
CALSCALE:GREGORIAN
BEGIN:VEVENT
DTSTART:20191009T144500Z
DTEND:20191009T170000Z
X-MICROSOFT-CDO-ALLDAYEVENT:FALSE
SUMMARY:October 9\, 2019 - SBOT Workshop: Leading Masterful Meetings
DESCRIPTION:"I'm so excited to attend a meeting today\," said no one ever!  Most of us dread meetings\, fearing they will waste our time\, bore us\, devolve into chaos\, and fail to accomplish their purpose.\n\n \n\nDiscover the strong leadership approach meeting chairs or facilitators need to take to confidently execute a clear process and foster a collaborative climate. Learn how meetings succeed\, how to keep participants on track\, and ways to maximize the cumulative energy\, commitment\, and talent to meet goals.   \n\n \n\nFacilitated by: Margaret Page\n \n\n\n\nEvent payment is due upon registration. Cancellations for event attendance\, sponsorship\, or exhibitor space will not be refunded. An event registration is considered a commitment to pay. While event registration is non-refundable\, cancellations before three full business days of the event may be eligible for a credit towards a future event. Some exclusions apply.
X-ALT-DESC;FMTTYPE=text/html:<div><span style="font-size:12px\;"><span style="font-family:arial\;">&ldquo\;I&rsquo\;m so excited to attend a meeting today\,&rdquo\;&nbsp\;<i style="font-size:16px">said no one ever!</i>&nbsp\;&nbsp\;Most of us dread meetings\, fearing they will waste our time\, bore us\, devolve into chaos\, and fail to accomplish their purpose.</span></span></div>\n\n<div>&nbsp\;</div>\n\n<div><span style="font-size:12px\;"><span style="font-family:arial\;">Discover the strong leadership approach meeting chairs or facilitators need to take to confidently execute a clear process and foster a collaborative climate. Learn how meetings succeed\, how to keep participants on track\, and ways to maximize the cumulative energy\, commitment\, and talent to meet goals.&nbsp\; &nbsp\;</span></span><br />\n&nbsp\;</div>\n\n<div><span style="font-size:12px\;"><span style="font-family:arial\;"><strong>Facilitated by</strong>: <a data-saferedirecturl="https://www.google.com/url?q=https://www.margaretpage.com/store/guide-to-business-etiquette/&amp\;source=gmail&amp\;ust=1566404828495000&amp\;usg=AFQjCNFVwXayFl7vf0bxBPgwhcp0irxYUA" href="https://www.margaretpage.com/store/guide-to-business-etiquette/" target="_blank">Margaret Page</a></span></span></div>\n&nbsp\;\n\n<hr /><br />\n<em><span style="color: rgb(34\, 34\, 34)\; font-family: Arial\, Helvetica\, sans-serif\; font-size: small\;">Event payment is due upon registration. Cancellations for event attendance\, sponsorship\, or exhibitor space will not be refunded. An event registration is considered a commitment to pay. While event registration is non-refundable\, cancellations before three full business days of the event may be eligible for a credit towards a future event. Some exclusions apply.</span></em><br />\n&nbsp\;
LOCATION:Surrey Board of Trade Conference Room (101-14439\, 104th Ave\, Surrey\, V3R 1M1)
UID:e.749.10589
SEQUENCE:3
DTSTAMP:20260420T124938Z
URL:https://business.swrbot.com/events/details/october-9-2019-sbot-workshop-leading-masterful-meetings-10-09-2019-10589
END:VEVENT

END:VCALENDAR
