BEGIN:VCALENDAR
VERSION:2.0
PRODID:-//ChamberMaster//Event Calendar 2.0//EN
METHOD:PUBLISH
X-PUBLISHED-TTL:P3D
REFRESH-INTERVAL:P3D
CALSCALE:GREGORIAN
BEGIN:VEVENT
DTSTART:20140927T180000Z
DTEND:20140928T020000Z
X-MICROSOFT-CDO-ALLDAYEVENT:FALSE
SUMMARY:OKTOBERFEST
DESCRIPTION:1st Annual Oktoberfest Fundraiser\n\n \nAlexandra Neighbourhood House will be hosting our first annual Oktoberfest on Saturday September 27\, 2014 from 11am -7pm. The success of this event relies heavily on the support of the community it serves\, which means WE NEED YOU! \n\n \n\nWe invite you to be part of the tradition\, creating an event that will become an annual opportunity for the community to come together with a common goal.
X-ALT-DESC;FMTTYPE=text/html:<strong>1st Annual Oktoberfest Fundraiser</strong><br />\n&nbsp\;\n<div style="margin:0px\;font-size:11.5px\;font-family:'Helvetica Neue'">Alexandra Neighbourhood House will be hosting our first annual Oktoberfest on <span class="aBn" data-term="goog_813625820" tabindex="0"><span class="aQJ">Saturday September 27\, 2014 from 11am -7pm</span></span>. The success of this event relies heavily on the support of the community it serves\, which means WE NEED YOU!&nbsp\;<br />\n&nbsp\;</div>\n\n<div style="margin:0px\;font-size:11.5px\;font-family:'Helvetica Neue'">We invite you to be part of the tradition\, creating an event that will become an annual opportunity for the community to come together with a common goal.</div>\n
LOCATION:2916 McBride Ave\, Surrey\, BC Crescent Beach
UID:e.749.2739
SEQUENCE:3
DTSTAMP:20260425T163252Z
URL:https://business.swrbot.com/events/details/oktoberfest-09-27-2014-2739
END:VEVENT

END:VCALENDAR
