BEGIN:VCALENDAR
VERSION:2.0
PRODID:-//ChamberMaster//Event Calendar 2.0//EN
METHOD:PUBLISH
X-PUBLISHED-TTL:P3D
REFRESH-INTERVAL:P3D
CALSCALE:GREGORIAN
BEGIN:VEVENT
DTSTART:20141017T210000Z
DTEND:20141017T230000Z
X-MICROSOFT-CDO-ALLDAYEVENT:FALSE
SUMMARY:Oktoberfest
DESCRIPTION:Oktoberfest Celebration Raise a glass with us ! Pretzels and brats. Good friends - good fun!
X-ALT-DESC;FMTTYPE=text/html:Oktoberfest Celebration Raise a glass with us ! Pretzels and brats. Good friends - good fun!
LOCATION:Chartwell Imperial Place Retirement Residence 13853 - 102 Avenue\, Surrey
UID:e.749.2809
SEQUENCE:3
DTSTAMP:20260425T151608Z
URL:https://business.swrbot.com/events/details/oktoberfest-10-17-2014-2809
END:VEVENT

END:VCALENDAR
