BEGIN:VCALENDAR
VERSION:2.0
PRODID:-//ChamberMaster//Event Calendar 2.0//EN
METHOD:PUBLISH
X-PUBLISHED-TTL:P3D
REFRESH-INTERVAL:P3D
CALSCALE:GREGORIAN
BEGIN:VEVENT
DTSTART:20150901T220000Z
DTEND:20150902T010000Z
X-MICROSOFT-CDO-ALLDAYEVENT:FALSE
SUMMARY:Open House - Canadian Blood Services
DESCRIPTION:Help us celebrate 3 Years in our Guildford location with this special open house!  \n\nTour the clinic\n\nLearn your blood type \n\nEnter a draw to win a door prize\n\nLearn about all the opportunities we offer for your colleagues to have a positive impact on the community!\n\nRefreshments provided!\n\nRSVP https://www.eventbrite.com/e/wed-be-lost-without-you-countmein-surrey-blood-donor-clinic-open-house-tickets-18059985904
X-ALT-DESC;FMTTYPE=text/html:<p>Help us celebrate 3 Years in our Guildford location with this special open house! &nbsp\;</p>\n\n<p>Tour the clinic<br />\nLearn&nbsp\;your blood type&nbsp\;</p>\n\n<p>Enter a draw to win a door prize</p>\n\n<p>Learn about all the opportunities we offer for your colleagues to have a positive impact on the community!</p>\n\n<p>Refreshments provided!</p>\n\n<p>RSVP&nbsp\;<a href="https://www.eventbrite.com/e/wed-be-lost-without-you-countmein-surrey-blood-donor-clinic-open-house-tickets-18059985904" style="font-family: Calibri\, sans-serif\; font-size: 11pt\; line-height: 1.6\;">https://www.eventbrite.com/e/wed-be-lost-without-you-countmein-surrey-blood-donor-clinic-open-house-tickets-18059985904</a></p>\n
LOCATION:15285 101 Avenue\, Surrey
UID:e.749.3650
SEQUENCE:3
DTSTAMP:20260423T200448Z
URL:https://business.swrbot.com/events/details/open-house-canadian-blood-services-09-01-2015-3650
END:VEVENT

END:VCALENDAR
