BEGIN:VCALENDAR
VERSION:2.0
PRODID:-//ChamberMaster//Event Calendar 2.0//EN
METHOD:PUBLISH
X-PUBLISHED-TTL:P3D
REFRESH-INTERVAL:P3D
CALSCALE:GREGORIAN
BEGIN:VEVENT
DTSTART:20140604T163000Z
DTEND:20140604T190000Z
X-MICROSOFT-CDO-ALLDAYEVENT:FALSE
SUMMARY:Overcome the Challenges when Conducting Business\, Expanding\, Hiring in USA
DESCRIPTION:Carefully selected seminar topics provide clarity of those confusing information about conducting business\, expanding\, hiring people across the borders of USA and Canada. Experts will explain how these affect your business to become more successful and not constrained with pitfalls and misinformation. This is a paid seminar and not an informational session. Seating is limited. Registration is required. No onsite registation allowed.
X-ALT-DESC;FMTTYPE=text/html:Carefully selected seminar topics provide clarity of those confusing information about conducting business\, expanding\, hiring people across the borders of USA and Canada. Experts will explain how these affect your business to become more successful and not constrained with pitfalls and misinformation. This is a paid seminar and not an informational session. Seating is limited. Registration is required. No onsite registation allowed.
LOCATION:8105 Birch Bay Square St\, Blaine\, WA 98230 - Peace Arch Business Center\, Ste 205
UID:e.749.2661
SEQUENCE:3
DTSTAMP:20260425T202149Z
URL:https://business.swrbot.com/events/details/overcome-the-challenges-when-conducting-business-expanding-hiring-in-usa-06-04-2014-2661
END:VEVENT

END:VCALENDAR
