BEGIN:VCALENDAR
VERSION:2.0
PRODID:-//ChamberMaster//Event Calendar 2.0//EN
METHOD:PUBLISH
X-PUBLISHED-TTL:P3D
REFRESH-INTERVAL:P3D
CALSCALE:GREGORIAN
BEGIN:VEVENT
DTSTART:20101020T143000Z
DTEND:20101020T143000Z
X-MICROSOFT-CDO-ALLDAYEVENT:FALSE
SUMMARY:Pension planning refresher for accountants\, professionals & companies
DESCRIPTION:Pension concerns are a top of mind issue as baby boomers\, business owners\, and employees near retirement. In many cases employers offer retirement programs\, but are not aware of their fiduciary obligations\, and potential liability\, as a retirement plan sponsor.\n\n\n\nThe Canadian federal and provincial governments are also pursuing pension reforms which will likely result in more businesses having to provide pension programs.\n\n\n\nWhat are the fiduciary responsibilities and requirements of the sponsor (and employee) if a pension plan is introduced? What are things to watch out for in introducing a Capital Accumulation Plan (CAPs) - the pension program of choice for most sponsors? What are the governance requirements and process in sponsoring a pension program?\n\n\n\nThis pension refresher seminar will review the key governance issues related to defined benefit plans\, defined contribution plans\, RRSPs\, and TFSAs (Capital Accumulation Accounts ? CAPs).\n\n\n\nThe following topics will be covered\, highlighting key issues regarding governance\, funding and investments:\n\n\n\n* Governance Framework\n\n* Effective Governance\n\n* Defined Benefit plans\n\n* Capital Accumulation Plans (CAPs)\n\n\n\nThis seminar will beneficial to employers who are thinking about adding a pension program or\, sponsors or administrators who already have a plan in place and also to people who are member of a pension plan through their employer.\n\n\n\nHosted by the Certified Management Accountants of BC's Vancouver chapter.
X-ALT-DESC;FMTTYPE=text/html:Pension concerns are a top of mind issue as baby boomers\, business owners\, and employees near retirement. In many cases employers offer retirement programs\, but are not aware of their fiduciary obligations\, and potential liability\, as a retirement plan sponsor.\n<br>\n<br>The Canadian federal and provincial governments are also pursuing pension reforms which will likely result in more businesses having to provide pension programs.\n<br>\n<br>What are the fiduciary responsibilities and requirements of the sponsor (and employee) if a pension plan is introduced? What are things to watch out for in introducing a Capital Accumulation Plan (CAPs) - the pension program of choice for most sponsors? What are the governance requirements and process in sponsoring a pension program?\n<br>\n<br>This pension refresher seminar will review the key governance issues related to defined benefit plans\, defined contribution plans\, RRSPs\, and TFSAs (Capital Accumulation Accounts ? CAPs).\n<br>\n<br>The following topics will be covered\, highlighting key issues regarding governance\, funding and investments:\n<br>\n<br>* Governance Framework\n<br>* Effective Governance\n<br>* Defined Benefit plans\n<br>* Capital Accumulation Plans (CAPs)\n<br>\n<br>This seminar will beneficial to employers who are thinking about adding a pension program or\, sponsors or administrators who already have a plan in place and also to people who are member of a pension plan through their employer.\n<br>\n<br>Hosted by the Certified Management Accountants of BC's Vancouver chapter. 
LOCATION:Eaglequest Coyote Creek Golf Course\, 7778 152 Street\, Surrey\, BC
UID:e.749.1683
SEQUENCE:3
DTSTAMP:20260422T150115Z
URL:https://business.swrbot.com/events/details/pension-planning-refresher-for-accountants-professionals-companies-10-20-2010-1683
END:VEVENT

END:VCALENDAR
