BEGIN:VCALENDAR
VERSION:2.0
PRODID:-//ChamberMaster//Event Calendar 2.0//EN
METHOD:PUBLISH
X-PUBLISHED-TTL:P3D
REFRESH-INTERVAL:P3D
CALSCALE:GREGORIAN
BEGIN:VEVENT
DTSTART:20200310T173000Z
DTEND:20200310T210000Z
X-MICROSOFT-CDO-ALLDAYEVENT:FALSE
SUMMARY:Postponed - Business Bus Tour
DESCRIPTION:Join us on a business bus tour! Stops will be made at other businesses in the Campbell Heights area\, including an award winning winery and a behind-the-scenes look with a border security officer. Lunch will be provided.\n\n\n\nThis tour follows the Campbell Heights Business Presentation by Mayor Doug McCallum earlier the same morning. If you have not yet purchased your tickets for that\, click here.
X-ALT-DESC;FMTTYPE=text/html:Join us on a business bus tour! <span style="color: rgb(0\, 0\, 0)\; font-family: Arial\,Verdana\,Helvetica\,sans-serif\; font-size: 14px\;">Stops will be made at other businesses in the Campbell Heights area\, including an award winning winery and a behind-the-scenes look with a border security officer. </span><span style="color: rgb(0\, 0\, 0)\; font-family: Arial\,Verdana\,Helvetica\,sans-serif\; font-size: 14px\;">Lunch will be provided.</span><br />\n<br />\nThis tour follows the <em>Campbell Heights Business Presentation </em>by Mayor Doug McCallum earlier the same morning. If you have not yet purchased your tickets for that\, <a href="https://www.sswrchamberofcommerce.ca/events/details/campbell-heights-business-opportunities-growth-2811"><span style="color:#0000CD\;"><strong>click here</strong></span></a>.
LOCATION:Start and End Address: Starline Windows 19091 36th Ave\, Surrey\, BC Business Stops: TBC
UID:e.749.14007
SEQUENCE:3
DTSTAMP:20260420T052737Z
URL:https://business.swrbot.com/events/details/postponed-business-bus-tour-03-10-2020-14007
END:VEVENT

END:VCALENDAR
