BEGIN:VCALENDAR
VERSION:2.0
PRODID:-//ChamberMaster//Event Calendar 2.0//EN
METHOD:PUBLISH
X-PUBLISHED-TTL:P3D
REFRESH-INTERVAL:P3D
CALSCALE:GREGORIAN
BEGIN:VEVENT
DTSTART:20200310T150000Z
DTEND:20200310T170000Z
X-MICROSOFT-CDO-ALLDAYEVENT:FALSE
SUMMARY:Postponed - Campbell Heights Business Opportunities & Growth
DESCRIPTION:Join us for a special presentation by Mayor Doug McCallum on the incredible development occurring in Campbell Heights and the City's plan to support further economic development in South Surrey. An exclusive tour of Starline Windows will follow. Starline Windows was the recent recipient of Business of the Year (Large) at the Chamber's Business Excellence Awards.\n\n\n\nA business bus tour is being organized to follow immediately after the presentation at Starline Windows. For details and to register for the tour\, click here.
X-ALT-DESC;FMTTYPE=text/html:<span style="font-family:arial\;"><span style="font-size: 14px\; white-space: pre-wrap\;">Join us for a special presentation by Mayor Doug McCallum on the incredible development occurring in Campbell Heights and the City&#39\;s plan to support further economic development in South Surrey. An exclusive tour of Starline Windows will follow. Starline Windows was the recent recipient of Business of the Year (Large) at the Chamber&#39\;s Business Excellence Awards.<br />\n<br />\nA <span style="color:#0000CD\;"><span style="font-size:16px\;"><strong>business bus tour</strong></span></span> is being organized to follow immediately after the presentation at Starline Windows. For details and to register for the tour\, <span style="font-size:16px\;"><strong><a href="https://www.sswrchamberofcommerce.ca/events/details/campbell-heights-business-opportunities-and-growth-bus-tour-2825"><span style="color:#0000CD\;">click here</span></a><span style="color:#0000CD\;">. </span></strong></span></span></span>
LOCATION:Starline Windows 19091 36 Ave\, Surrey\, BC V3Z 0P6
UID:e.749.14005
SEQUENCE:3
DTSTAMP:20260420T052809Z
URL:https://business.swrbot.com/events/details/postponed-campbell-heights-business-opportunities-growth-03-10-2020-14005
END:VEVENT

END:VCALENDAR
