BEGIN:VCALENDAR
VERSION:2.0
PRODID:-//ChamberMaster//Event Calendar 2.0//EN
METHOD:PUBLISH
X-PUBLISHED-TTL:P3D
REFRESH-INTERVAL:P3D
CALSCALE:GREGORIAN
BEGIN:VEVENT
DTSTART:20161209T160000Z
DTEND:20161209T180000Z
X-MICROSOFT-CDO-ALLDAYEVENT:FALSE
SUMMARY:(POSTPONED\, date TBD) December 9\, 2016 - Women In Biz Workshop: Supercharge your Business Skills!
DESCRIPTION:The primary block on any business today is the psychology of the owner. Women\, who want to grow\, expand their business and delegate are susceptible to the same human conditions - beliefs\, doubt and patterns. Evren Westhead RCC\, MBA works on the emotional aspect of entrepreneurship and supports business owners to \n\n\n	Spot themselves on the map\,\n	Learn the steps to answer their immediate challenge in business today\, and\n	Develop the habit and skill of engaging with challenges
X-ALT-DESC;FMTTYPE=text/html:<div><span style="color:rgb(35\,35\,35)\;font-family:&quot\;calibri light&quot\;">The primary block on any business today is the psychology of the owner.&nbsp\;</span><font color="#232323" face="Calibri Light">Women\, who want to grow\,&nbsp\;expand their business and delegate are&nbsp\;susceptible to the&nbsp\;same human conditions - beliefs\,&nbsp\;</font><span style="color:rgb(35\,35\,35)\;font-family:&quot\;calibri light&quot\;">doubt and patterns. Evren Westhead RCC\, MBA works on</span><font color="#1a1a1a" face="Calibri Light">&nbsp\;the emotional aspect of entrepreneurship and supports&nbsp\;</font><span style="color:rgb(35\,35\,35)\;font-family:&quot\;calibri light&quot\;">business owners</span><span style="color:rgb(35\,35\,35)\;font-family:&quot\;calibri light&quot\;">&nbsp\;</span><span style="color:rgb(26\,26\,26)\;font-family:&quot\;calibri light&quot\;">to&nbsp\;</span></div>\n\n<ul>\n	<li><span style="color:rgb(26\,26\,26)\;font-family:&quot\;calibri light&quot\;">Spot themselves on the map\,</span></li>\n	<li><span style="color:rgb(26\,26\,26)\;font-family:&quot\;calibri light&quot\;">Learn the steps to answer their immediate challenge in business today\, and</span></li>\n	<li><font color="#1a1a1a" face="Calibri Light">Develop the habit and skill of engaging with challenges</font></li>\n</ul>\n
LOCATION:101\, 14439 104 Ave\, Surrey\, BC V3R 1M!
UID:e.749.5149
SEQUENCE:3
DTSTAMP:20260422T071455Z
URL:https://business.swrbot.com/events/details/postponed-date-tbd-december-9-2016-women-in-biz-workshop-supercharge-your-business-skills-12-09-2016-5149
END:VEVENT

END:VCALENDAR
