BEGIN:VCALENDAR
VERSION:2.0
PRODID:-//ChamberMaster//Event Calendar 2.0//EN
METHOD:PUBLISH
X-PUBLISHED-TTL:P3D
REFRESH-INTERVAL:P3D
CALSCALE:GREGORIAN
BEGIN:VEVENT
DTSTART:20180619T160000Z
DTEND:20180619T230000Z
X-MICROSOFT-CDO-ALLDAYEVENT:FALSE
SUMMARY:Practical Steps to Recruit and Retain an Inclusive Workforce
DESCRIPTION:You are invited to a one-day professional development training event\, designed for operations and hiring managers to better hire\, engage and retain people with disabilities. This training event is complimentary and made possible with funding from the Vancouver Foundation.\n\n\n\nWhat will be covered: - Why Inclusive Cultures Matter - What's Working for Business   What are leading employers doing that I can learn from? - Workplace Adjustments and Duty to Accommodate   What is reasonable accommodation? - Unconscious Bias   What are the unintended barriers in my workplace? - Neuro Diverse Talent   Autism in the Workplace - Candidates and Employees Living with Mental Health Conditions - Practical Day to Day\, Inclusive and Innovative Employment Practices\n\n\n\nPlease contact info@accessibleemployers.ca with any questions you have. Space is limited so please reserve your tickets. A maximum of ten tickets per organization will be allotted. Refreshments and lunch will be provided. We look forward to seeing you there!
X-ALT-DESC;FMTTYPE=text/html:You are invited to a one-day professional development training event\, designed for operations and hiring managers to better hire\, engage and retain people with disabilities. This training event is complimentary and made possible with funding from the Vancouver Foundation.<br />\n<br />\n<strong>What will be covered: </strong>- Why Inclusive Cultures Matter - What&rsquo\;s Working for Business &ndash\; What are leading employers doing that I can learn from? - Workplace Adjustments and Duty to Accommodate &ndash\; What is reasonable accommodation? - Unconscious Bias &ndash\; What are the unintended barriers in my workplace? - Neuro Diverse Talent &ndash\; Autism in the Workplace - Candidates and Employees Living with Mental Health Conditions - Practical Day to Day\, Inclusive and Innovative Employment Practices<br />\n<br />\nPlease contact info@accessibleemployers.ca with any questions you have. Space is limited so please reserve your tickets. A maximum of ten tickets per organization will be allotted. Refreshments and lunch will be provided. We look forward to seeing you there!
LOCATION:4201 Lougheed Hwy Burnaby\, BC V5C 3Y6 Canada
UID:e.749.8264
SEQUENCE:3
DTSTAMP:20260421T091340Z
URL:https://business.swrbot.com/events/details/practical-steps-to-recruit-and-retain-an-inclusive-workforce-06-19-2018-8264
END:VEVENT

END:VCALENDAR
