BEGIN:VCALENDAR
VERSION:2.0
PRODID:-//ChamberMaster//Event Calendar 2.0//EN
METHOD:PUBLISH
X-PUBLISHED-TTL:P3D
REFRESH-INTERVAL:P3D
CALSCALE:GREGORIAN
BEGIN:VEVENT
DTSTART:20140427T020000Z
DTEND:20140427T065500Z
X-MICROSOFT-CDO-ALLDAYEVENT:FALSE
SUMMARY:PRIMARY - a Gala in Support of Arts Umbrella
DESCRIPTION:PRIMARY will bring together amazing musicians\, dancers and visual art for a fantastic party filled with entertainment.  Join us as we transform our Shops at Morgan Crossing location into a magical art-scape!\n\n\n\nProceeds from the night will benefit Arts Umbrella's two Surrey campuses\, where we inspire kids through high quality visual\, media and performing arts education every day.\n\n\n\nProduced by The Social Concierge (www.thesocialconcierge.com)\, PRIMARY will be sure to one of the highlights of this year's social calendar.\n\nMusic\, dance\, performances and much more await you!\n\nEach All-Inclusive $250 ticket will give you access to:\n\n\n	Live World Music\n	Vibrant Dance Performances\n	Exquisite Food\n	Complex Cocktails\, Wine\, Beer\, and non-alcoholic beverages
X-ALT-DESC;FMTTYPE=text/html:<p class="MsoNormal">&nbsp\;</p>\n\n<p class="MsoNormal" style="mso-margin-top-alt:auto\;margin-bottom:12.0pt"><span mso-bidi-font-family:="" new="" style="font-size:12.0pt\;mso-fareast-font-family:" times="">PRIMARY will bring together amazing musicians\, dancers and visual art for a fantastic party filled with entertainment.&nbsp\; Join us as we transform our Shops at Morgan Crossing location into a magical art-scape!<br />\n<br />\nProceeds from the night will benefit Arts Umbrella&rsquo\;s two Surrey campuses\, where we inspire kids through high quality visual\, media and performing arts education every day.<br />\n<br />\nProduced by The Social Concierge (www.thesocialconcierge.com)\, PRIMARY will be sure to one of the highlights of this year&#39\;s social calendar.</span></p>\n\n<p class="MsoNormal" style="mso-margin-top-alt:auto\;mso-margin-bottom-alt:auto"><span mso-bidi-font-family:="" new="" style="font-size:12.0pt\;mso-fareast-font-family:" times="">Music\, dance\, performances and much more await you!</span></p>\n\n<p class="MsoNormal" style="mso-margin-top-alt:auto\;mso-margin-bottom-alt:auto"><span mso-bidi-font-family:="" new="" style="font-size:12.0pt\;mso-fareast-font-family:" times="">Each All-Inclusive $250 ticket will give you access to:</span></p>\n\n<ul type="disc">\n	<li class="MsoNormal" style="color:#002060\;mso-margin-top-alt:auto\;mso-margin-bottom-alt:\n     auto\;mso-list:l0 level1 lfo1\;tab-stops:list .5in"><span mso-bidi-font-family:="" new="" style="font-size:\n     12.0pt\;mso-fareast-font-family:" times="">Live World Music</span></li>\n	<li class="MsoNormal" style="color:#002060\;mso-margin-top-alt:auto\;mso-margin-bottom-alt:\n     auto\;mso-list:l0 level1 lfo1\;tab-stops:list .5in"><span mso-bidi-font-family:="" new="" style="font-size:\n     12.0pt\;mso-fareast-font-family:" times="">Vibrant Dance Performances</span></li>\n	<li class="MsoNormal" style="color:#002060\;mso-margin-top-alt:auto\;mso-margin-bottom-alt:\n     auto\;mso-list:l0 level1 lfo1\;tab-stops:list .5in"><span mso-bidi-font-family:="" new="" style="font-size:\n     12.0pt\;mso-fareast-font-family:" times="">Exquisite Food</span></li>\n	<li class="MsoNormal" style="color:#002060\;mso-margin-top-alt:auto\;mso-margin-bottom-alt:\n     auto\;mso-list:l0 level1 lfo1\;tab-stops:list .5in"><span mso-bidi-font-family:="" new="" style="font-size:\n     12.0pt\;mso-fareast-font-family:" times="">Complex Cocktails\, Wine\, Beer\, and non-alcoholic beverages</span></li>\n</ul>\n
LOCATION:Arts Umbrella at the Shops at Morgan Crossing 116 - 15850 26 Avenue South Surrey\, BC V3S 2N6
UID:e.749.2588
SEQUENCE:3
DTSTAMP:20260425T224236Z
URL:https://business.swrbot.com/events/details/primary-a-gala-in-support-of-arts-umbrella-04-26-2014-2588
END:VEVENT

END:VCALENDAR
