BEGIN:VCALENDAR
VERSION:2.0
PRODID:-//ChamberMaster//Event Calendar 2.0//EN
METHOD:PUBLISH
X-PUBLISHED-TTL:P3D
REFRESH-INTERVAL:P3D
CALSCALE:GREGORIAN
BEGIN:VEVENT
DTSTART:20180206T170000Z
DTEND:20180206T220000Z
X-MICROSOFT-CDO-ALLDAYEVENT:FALSE
SUMMARY:Professional Development Courses – Seminars
DESCRIPTION:At our seminars and workshops you will learn the best practices on being compliant as an importer and/or exporter helping you expedite your commercial shipments rather than triggering costly delays. Our experts share their knowledge on international and cross-border shipping to keep you current with customs and participating government agency regulations. Topics include: Customs Compliance - (Canadian Trade) Customs Compliance - (U.S. Trade) HS Tariff Classification Shipping Perishables Free Trade Agreements C-TPAT FDA CFIA Exporting from Canada Customs Valuation Whether you are a Canadian or U.S. Certified Customs Specialist (CCS)\, a Certified Trade Compliance Specialist (CTCS)\, a Certified Export Specialist (CES)\, a designate with the Law Society of British Columbia (LSBC) or accounting professional\, taking any of Pacific Customs Brokers' seminars and webinars may earn you maintenance points\, credits\, and hours towards a variety of professional designations.
X-ALT-DESC;FMTTYPE=text/html:At our seminars and workshops you will learn the best practices on being compliant as an importer and/or exporter helping you expedite your commercial shipments rather than triggering costly delays. Our experts share their knowledge on international and cross-border shipping to keep you current with customs and participating government agency regulations. Topics include: Customs Compliance - (Canadian Trade) Customs Compliance - (U.S. Trade) HS Tariff Classification Shipping Perishables Free Trade Agreements C-TPAT FDA CFIA Exporting from Canada Customs Valuation Whether you are a Canadian or U.S. Certified Customs Specialist (CCS)\, a Certified Trade Compliance Specialist (CTCS)\, a Certified Export Specialist (CES)\, a designate with the Law Society of British Columbia (LSBC) or accounting professional\, taking any of Pacific Customs Brokers&rsquo\; seminars and webinars may earn you maintenance points\, credits\, and hours towards a variety of professional designations.
LOCATION:Surrey\, BC
UID:e.749.6677
SEQUENCE:3
DTSTAMP:20260421T141023Z
URL:https://business.swrbot.com/events/details/professional-development-courses-seminars-02-06-2018-6677
END:VEVENT

END:VCALENDAR
