BEGIN:VCALENDAR
VERSION:2.0
PRODID:-//ChamberMaster//Event Calendar 2.0//EN
METHOD:PUBLISH
X-PUBLISHED-TTL:P3D
REFRESH-INTERVAL:P3D
CALSCALE:GREGORIAN
BEGIN:VEVENT
DTSTART:20180206T150000Z
DTEND:20180206T173000Z
X-MICROSOFT-CDO-ALLDAYEVENT:FALSE
SUMMARY:Professional Development Courses – Webinars
DESCRIPTION:Our webinars are designed to meet the demands of the global trade community. These live webinars are a convenient way for trade professionals to stay ahead of new regulations with international trade and gain additional knowledge in key areas. Topics include: Importing for Beginners - Canada Importing for Beginners - U.S. NAFTA for Beginners FDA Regulated Goods CFIA Regulated Goods Whether you are a Canadian or U.S. Certified Customs Specialist (CCS)\, a Certified Trade Compliance Specialist (CTCS)\, a Certified Export Specialist (CES)\, a designate with the Law Society of British Columbia (LSBC) or accounting professional\, taking any of Pacific Customs Brokers' seminars and webinars may earn you maintenance points\, credits\, and hours towards a variety of professional designations.
X-ALT-DESC;FMTTYPE=text/html:Our webinars are designed to meet the demands of the global trade community. These live webinars are a convenient way for trade professionals to stay ahead of new regulations with international trade and gain additional knowledge in key areas. Topics include: Importing for Beginners - Canada Importing for Beginners - U.S. NAFTA for Beginners FDA Regulated Goods CFIA Regulated Goods Whether you are a Canadian or U.S. Certified Customs Specialist (CCS)\, a Certified Trade Compliance Specialist (CTCS)\, a Certified Export Specialist (CES)\, a designate with the Law Society of British Columbia (LSBC) or accounting professional\, taking any of Pacific Customs Brokers&rsquo\; seminars and webinars may earn you maintenance points\, credits\, and hours towards a variety of professional designations.
LOCATION:Online
UID:e.749.6676
SEQUENCE:3
DTSTAMP:20260421T140958Z
URL:https://business.swrbot.com/events/details/professional-development-courses-webinars-02-06-2018-6676
END:VEVENT

END:VCALENDAR
