BEGIN:VCALENDAR
VERSION:2.0
PRODID:-//ChamberMaster//Event Calendar 2.0//EN
METHOD:PUBLISH
X-PUBLISHED-TTL:P3D
REFRESH-INTERVAL:P3D
CALSCALE:GREGORIAN
BEGIN:VEVENT
DTSTART:20160517T160000Z
DTEND:20160517T193000Z
X-MICROSOFT-CDO-ALLDAYEVENT:FALSE
SUMMARY:PwC - Growing Your Business Into The U.S.
DESCRIPTION:Do you know how to navigate the challenges of doing business across borders? Join PwC and RDM Lawyers\, Abbotsford\, for a lunch session where you can learn about the tax and accounting challenges you may face when expanding your business into the US. Our team will provide you with practical approaches to addressing these challenges. Whether your business is considering expansion\, has already started\, or is well established with international operations\, understanding the changing global tax landscape is an important factor in your success. Key learnings: Personal tax and immigration considerations for your people Tax considerations of doing business in the US and other countries Intercompany transactions and the global tax environment Speakers: Mike Shields Partner\, Tax Services   Elisabeth Finch Partner\, Tax Services Diane Akelaitis Partner\, Tax Services Susan Martyn Senior Manager\, PwC Immigration Law LLP
X-ALT-DESC;FMTTYPE=text/html:Do you know how to navigate the challenges of doing business across borders? Join PwC and RDM Lawyers\, Abbotsford\, for a lunch session where you can learn about the tax and accounting challenges you may face when expanding your business into the US. Our team will provide you with practical approaches to addressing these challenges. Whether your business is considering expansion\, has already started\, or is well established with international operations\, understanding the changing global tax landscape is an important factor in your success. Key learnings: Personal tax and immigration considerations for your people Tax considerations of doing business in the US and other countries Intercompany transactions and the global tax environment Speakers: Mike Shields Partner\, Tax Services &nbsp\; Elisabeth Finch Partner\, Tax Services Diane Akelaitis Partner\, Tax Services Susan Martyn Senior Manager\, PwC Immigration Law LLP
LOCATION:Ramada Plaza Abbotsford Hotel & Conference Centre 36035 North Parallel Road Abbotsford\, BC
UID:e.749.4940
SEQUENCE:3
DTSTAMP:20260424T085842Z
URL:https://business.swrbot.com/events/details/pwc-growing-your-business-into-the-u-s-05-17-2016-4940
END:VEVENT

END:VCALENDAR
