BEGIN:VCALENDAR
VERSION:2.0
PRODID:-//ChamberMaster//Event Calendar 2.0//EN
METHOD:PUBLISH
X-PUBLISHED-TTL:P3D
REFRESH-INTERVAL:P3D
CALSCALE:GREGORIAN
BEGIN:VEVENT
DTSTART:20150419T030000Z
DTEND:20150419T080000Z
X-MICROSOFT-CDO-ALLDAYEVENT:FALSE
SUMMARY:RAVE for diskordanse
DESCRIPTION:Join us for a RAVE night of live music\, dancing\, draws\, prizes\, live entertainment\, a silent auction. All in support of South Surrey's own THE DISKORDANSE COMPANY's 20115 new work\, THE COLLECTION. Foods by Crescent Beach's BEAST and BRINE\, fine wines\, meet and greet with the CAST and CREW.
X-ALT-DESC;FMTTYPE=text/html:Join us for a RAVE night of live music\, dancing\, draws\, prizes\, live entertainment\, a silent auction. All in support of South Surrey&#39\;s own THE DISKORDANSE COMPANY&#39\;s 20115 new work\, THE COLLECTION. Foods by Crescent Beach&#39\;s BEAST and BRINE\, fine wines\, meet and greet with the CAST and CREW.
LOCATION:XBa DanceCo studios\, corner of 152nd street and 20th avenue in South Surrey
UID:e.749.2876
SEQUENCE:3
DTSTAMP:20260423T113602Z
URL:https://business.swrbot.com/events/details/rave-for-diskordanse-04-18-2015-2876
END:VEVENT

END:VCALENDAR
