BEGIN:VCALENDAR
VERSION:2.0
PRODID:-//ChamberMaster//Event Calendar 2.0//EN
METHOD:PUBLISH
X-PUBLISHED-TTL:P3D
REFRESH-INTERVAL:P3D
CALSCALE:GREGORIAN
BEGIN:VEVENT
DTSTART:20141123T040000Z
DTEND:20141123T090000Z
X-MICROSOFT-CDO-ALLDAYEVENT:FALSE
SUMMARY:RAW Edge in Suburbia
DESCRIPTION:A special invitation to SBoT members\n\n\n\nNovember 22nd peninsula patrons of the arts will be treated to stunning world-class live performances of both music and dance\, a costume fashion extravaganza\, fine wines by Tinhorn Creek Vineyards\, and delicacies from Crescent Beach's own Beast and Brine charcuterie.\n\n\n\nGuests will experience a sneak preview of Surrey's own The diskordanse Company's 2015 work THE COLLECTION\, have a meet and greet with the company dancers\, the composers\, and choreographer.\n\n\n\nSurrey's The diskordanse Company has been scouted as featured performers for the RAW International Event in Vancouver\, in January\;  diskordanse features the original compositions of four-time Grammy nominee Oleksa Lozowchuk\;  2015 composers include Dasha Duquette of the band Masonette\, members of INCURA\, and Yvew Frulla\, Celine Dion's keyboardist.\n\n\n\nThe diskordanse Company is Surrey's only BUSINESS of the Arts - corporate sponsorships and advertising with the company for the 2015 season are now open and available.
X-ALT-DESC;FMTTYPE=text/html:A special invitation to SBoT members<br />\n<br />\nNovember 22nd peninsula patrons of the arts will be treated to stunning world-class live performances of both music and dance\, a costume fashion extravaganza\, fine wines by Tinhorn Creek Vineyards\, and delicacies from Crescent Beach&#39\;s own Beast and Brine charcuterie.<br />\n<br />\nGuests will experience a sneak preview of Surrey&#39\;s own The diskordanse Company&#39\;s 2015 work THE COLLECTION\, have a meet and greet with the company dancers\, the composers\, and choreographer.<br />\n<br />\nSurrey&#39\;s The diskordanse Company has been scouted as featured performers for the RAW International Event in Vancouver\, in January\; &nbsp\;diskordanse features the original compositions of four-time Grammy nominee Oleksa Lozowchuk\; &nbsp\;2015 composers include Dasha Duquette of the band Masonette\, members of INCURA\, and Yvew Frulla\, Celine Dion&#39\;s keyboardist.<br />\n<br />\nThe diskordanse Company is Surrey&#39\;s only BUSINESS of the Arts - corporate sponsorships and advertising with the company for the 2015 season are now open and available.
LOCATION:XBa DanceCo Studios - corner of 152nd Street and 20th Avenue in South Surrey
UID:e.749.2818
SEQUENCE:3
DTSTAMP:20260425T140153Z
URL:https://business.swrbot.com/events/details/raw-edge-in-suburbia-11-22-2014-2818
END:VEVENT

END:VCALENDAR
