BEGIN:VCALENDAR
VERSION:2.0
PRODID:-//ChamberMaster//Event Calendar 2.0//EN
METHOD:PUBLISH
X-PUBLISHED-TTL:P3D
REFRESH-INTERVAL:P3D
CALSCALE:GREGORIAN
BEGIN:VEVENT
DTSTART:20140205T153000Z
DTEND:20140205T180000Z
X-MICROSOFT-CDO-ALLDAYEVENT:FALSE
SUMMARY:RBC - Your Future by Design - Business Succession Planning
DESCRIPTION:Monica Vaughan\, Regional Vice President\, South Surrey Delta RBC Royal Bank\n\n	invites you to attend a  morning with\n\n	 \n\n	Bill Hill\, National Retirement Planning Consultant\n\n	Kevin Clements\, Investment and Retirement Planner\n\n	Along with our Expert Panel\n\n	 \n\n	Your Future By Design\n\n	Business Succession Planning\n\n	'Planning versus leaving it to chance '\n\n	at\n\n	Morgan Creek Golf Course\n\n	presented by\n\n	RBC Royal Bank \n\n	February 5\, 2014\n\n	7:30am   10:00am\n\n	Breakfast & Networking 7:30am 8:30am\n\n	Workshop 8:30am    9:30am\n\n	Coffee & Questions 9:30am   10:00am\n\n	3500 Morgan Creek Way  \n\n	Surrey\, BC\n\n	Special Note: There will be time at the end\, so please bring your questions!\n\n	Please RSVP to Lisa Alamolholda  lisa.alamolhoda@rbc.com by January 17th
X-ALT-DESC;FMTTYPE=text/html:<p align="center" class="MsoNormal" style="text-align: center\; margin: 5pt 0in\; mso-layout-grid-align: none">\n	<b style="mso-bidi-font-weight: normal"><span style="font-family: Candara\; mso-bidi-font-family: Candara\; mso-ansi-language: EN-US"><font size="3"><font color="#000000">Monica Vaughan\, Regional Vice President\, South Surrey Delta RBC Royal Bank<o:p></o:p></font></font></span></b></p>\n<p align="center" class="MsoNormal" style="text-align: center\; margin: 5pt 0in\; mso-layout-grid-align: none">\n	<span style="font-family: Candara\; font-size: 11pt\; mso-bidi-font-family: Candara\; mso-ansi-language: EN-US"><font color="#000000">invites you to attend a<span style="mso-spacerun: yes">&nbsp\; </span>morning with</font></span><br />\n	&nbsp\;</p>\n<p align="center" class="MsoNormal" style="text-align: center\; margin: 0in 0in 0pt">\n	<span style="font-family: Candara\; font-size: 11pt\; mso-bidi-font-family: Candara\; mso-ansi-language: EN-US"><font color="#000000"><b style="mso-bidi-font-weight: normal"><span style="font-family: Candara\; mso-ansi-language: EN-US"><font size="3">Bill Hill\, National Retirement Planning Consultant<o:p></o:p></font></span></b></font></span></p>\n<p align="center" class="MsoNormal" style="text-align: center\; margin: 0in 0in 0pt">\n	<span style="font-family: Candara\; font-size: 11pt\; mso-bidi-font-family: Candara\; mso-ansi-language: EN-US"><font color="#000000"><b style="mso-bidi-font-weight: normal"><span style="font-family: Candara\; mso-ansi-language: EN-US"><font size="3">Kevin Clements\, Investment and Retirement Planner<o:p></o:p></font></span></b></font></span></p>\n<p align="center" class="MsoNormal" style="text-align: center\; margin: 0in 0in 0pt">\n	<span style="font-family: Candara\; font-size: 11pt\; mso-bidi-font-family: Candara\; mso-ansi-language: EN-US"><font color="#000000"><span style="font-family: Candara\; mso-ansi-language: EN-US"><font size="3">Along with our Expert Panel</font></span></font></span><br />\n	&nbsp\;</p>\n<p align="center" class="MsoNormal" style="page-break-after: avoid\; text-align: center\; margin: 5pt 0in\; mso-layout-grid-align: none">\n	<span style="font-family: Candara\; font-size: 11pt\; mso-bidi-font-family: Candara\; mso-ansi-language: EN-US"><font color="#000000"><span style="font-family: Candara\; mso-ansi-language: EN-US"><font size="3"><b><span style="font-family: Candara\; font-size: 20pt\; mso-bidi-font-family: Candara\; mso-ansi-language: EN-US">Your Future By Design<o:p></o:p></span></b></font></span></font></span></p>\n<p align="center" class="MsoNormal" style="page-break-after: avoid\; text-align: center\; margin: 5pt 0in\; mso-layout-grid-align: none">\n	<span style="font-family: Candara\; font-size: 11pt\; mso-bidi-font-family: Candara\; mso-ansi-language: EN-US"><font color="#000000"><span style="font-family: Candara\; mso-ansi-language: EN-US"><font size="3"><b><span style="font-family: Candara\; font-size: 20pt\; mso-bidi-font-family: Candara\; mso-ansi-language: EN-US">Business Succession Planning<o:p></o:p></span></b></font></span></font></span></p>\n<p align="center" class="MsoNormal" style="page-break-after: avoid\; text-align: center\; margin: 5pt 0in\; mso-layout-grid-align: none">\n	<span style="font-family: Candara\; font-size: 11pt\; mso-bidi-font-family: Candara\; mso-ansi-language: EN-US"><font color="#000000"><span style="font-family: Candara\; mso-ansi-language: EN-US"><font size="3"><b style="mso-bidi-font-weight: normal"><i style="mso-bidi-font-style: normal"><span style="font-family: Candara\; font-size: 20pt\; mso-ansi-language: EN-US">&lsquo\;Planning versus leaving it to chance &lsquo\;<o:p></o:p></span></i></b></font></span></font></span></p>\n<p align="center" class="MsoNormal" style="text-align: center\; margin: 5pt 0in\; mso-layout-grid-align: none">\n	<span style="font-family: Candara\; font-size: 11pt\; mso-bidi-font-family: Candara\; mso-ansi-language: EN-US"><font color="#000000"><span style="font-family: Candara\; mso-ansi-language: EN-US"><font size="3"><b><i><span style="font-family: Candara\; mso-bidi-font-family: Candara\; mso-ansi-language: EN-US">at</span></i></b><span style="font-family: Candara\; mso-ansi-language: EN-US"><o:p></o:p></span></font></span></font></span></p>\n<p align="center" class="MsoNormal" style="text-align: center\; margin: 5pt 0in\; mso-layout-grid-align: none">\n	<span style="font-family: Candara\; font-size: 11pt\; mso-bidi-font-family: Candara\; mso-ansi-language: EN-US"><font color="#000000"><span style="font-family: Candara\; mso-ansi-language: EN-US"><font size="3"><st1:place w:st="on"><st1:placename w:st="on"><b><i><span style="font-family: Candara\; mso-bidi-font-family: Candara\; mso-ansi-language: EN-US">Morgan</span></i></b></st1:placename><b><i><span style="font-family: Candara\; mso-bidi-font-family: Candara\; mso-ansi-language: EN-US"> <st1:placename w:st="on">Creek</st1:placename></span></i></b></st1:place><b><i><span style="font-family: Candara\; mso-bidi-font-family: Candara\; mso-ansi-language: EN-US"> Golf Course</span></i></b><span style="font-family: Candara\; mso-ansi-language: EN-US"><o:p></o:p></span></font></span></font></span></p>\n<p align="center" class="MsoNormal" style="text-align: center\; margin: 5pt 0in\; mso-layout-grid-align: none">\n	<span style="font-family: Candara\; font-size: 11pt\; mso-bidi-font-family: Candara\; mso-ansi-language: EN-US"><font color="#000000"><span style="font-family: Candara\; mso-ansi-language: EN-US"><font size="3"><span style="font-family: Candara\; mso-bidi-font-family: Candara\; mso-ansi-language: EN-US">presented by</span><span style="font-family: Candara\; mso-ansi-language: EN-US"><o:p></o:p></span></font></span></font></span></p>\n<p align="center" class="MsoNormal" style="text-align: center\; margin: 5pt 0in\; mso-layout-grid-align: none">\n	<span style="font-family: Candara\; font-size: 11pt\; mso-bidi-font-family: Candara\; mso-ansi-language: EN-US"><font color="#000000"><span style="font-family: Candara\; mso-ansi-language: EN-US"><font size="3"><b><span style="font-family: Candara\; mso-bidi-font-family: Candara\; mso-ansi-language: EN-US">RBC Royal Bank </span></b><span style="font-family: Candara\; mso-ansi-language: EN-US"><o:p></o:p></span></font></span></font></span></p>\n<p align="center" class="MsoNormal" style="text-align: center\; margin: 5pt 0in\; mso-layout-grid-align: none">\n	<span style="font-family: Candara\; font-size: 11pt\; mso-bidi-font-family: Candara\; mso-ansi-language: EN-US"><font color="#000000"><span style="font-family: Candara\; mso-ansi-language: EN-US"><font size="3"><span style="font-family: Candara\; mso-bidi-font-family: Candara\; mso-ansi-language: EN-US">February 5\, 2014</span><span style="font-family: Candara\; mso-ansi-language: EN-US"><o:p></o:p></span></font></span></font></span></p>\n<p align="center" class="MsoNormal" style="text-align: center\; margin: 5pt 0in\; mso-layout-grid-align: none">\n	<span style="font-family: Candara\; font-size: 11pt\; mso-bidi-font-family: Candara\; mso-ansi-language: EN-US"><font color="#000000"><span style="font-family: Candara\; mso-ansi-language: EN-US"><font size="3"><span style="font-family: Candara\; mso-bidi-font-family: Candara\; mso-ansi-language: EN-US">7:30am &ndash\; 10:00am<o:p></o:p></span></font></span></font></span></p>\n<p align="center" class="MsoNormal" style="text-align: center\; margin: 5pt 0in\; mso-layout-grid-align: none">\n	<span style="font-family: Candara\; font-size: 11pt\; mso-bidi-font-family: Candara\; mso-ansi-language: EN-US"><font color="#000000"><span style="font-family: Candara\; mso-ansi-language: EN-US"><font size="3"><i><span style="font-family: Candara\; mso-bidi-font-family: Candara\; mso-ansi-language: EN-US">Breakfast &amp\; Networking 7:30am 8:30am</span></i><span style="font-family: Candara\; mso-ansi-language: EN-US"><o:p></o:p></span></font></span></font></span></p>\n<p align="center" class="MsoNormal" style="text-align: center\; margin: 5pt 0in\; mso-layout-grid-align: none">\n	<span style="font-family: Candara\; font-size: 11pt\; mso-bidi-font-family: Candara\; mso-ansi-language: EN-US"><font color="#000000"><span style="font-family: Candara\; mso-ansi-language: EN-US"><font size="3"><i style="mso-bidi-font-style: normal"><span style="font-family: Candara\; mso-bidi-font-family: Candara\; mso-ansi-language: EN-US">Workshop 8:30am <span style="mso-spacerun: yes">&nbsp\;</span>&ndash\; 9:30am<o:p></o:p></span></i></font></span></font></span></p>\n<p align="center" class="MsoNormal" style="text-align: center\; margin: 5pt 0in\; mso-layout-grid-align: none">\n	<span style="font-family: Candara\; font-size: 11pt\; mso-bidi-font-family: Candara\; mso-ansi-language: EN-US"><font color="#000000"><span style="font-family: Candara\; mso-ansi-language: EN-US"><font size="3"><i style="mso-bidi-font-style: normal"><span style="font-family: Candara\; mso-bidi-font-family: Candara\; mso-ansi-language: EN-US">Coffee &amp\; Questions 9:30am &ndash\; 10:00am<o:p></o:p></span></i></font></span></font></span></p>\n<p align="center" class="MsoNormal" style="text-align: center\; margin: 5pt 0in\; mso-layout-grid-align: none">\n	<span style="font-family: Candara\; font-size: 11pt\; mso-bidi-font-family: Candara\; mso-ansi-language: EN-US"><font color="#000000"><span style="font-family: Candara\; mso-ansi-language: EN-US"><font size="3"><st1:street w:st="on"><st1:address w:st="on"><span style="font-family: Candara\; mso-bidi-font-family: Candara\; mso-ansi-language: EN-US">3500 Morgan Creek Way</span></st1:address></st1:street><span style="font-family: Candara\; mso-bidi-font-family: Candara\; mso-ansi-language: EN-US"><span style="mso-spacerun: yes">&nbsp\; </span><o:p></o:p></span></font></span></font></span></p>\n<p align="center" class="MsoNormal" style="text-align: center\; margin: 5pt 0in\; mso-layout-grid-align: none">\n	<span style="font-family: Candara\; font-size: 11pt\; mso-bidi-font-family: Candara\; mso-ansi-language: EN-US"><font color="#000000"><span style="font-family: Candara\; mso-ansi-language: EN-US"><font size="3"><st1:place w:st="on"><st1:city w:st="on"><span style="font-family: Candara\; mso-bidi-font-family: Candara\; mso-ansi-language: EN-US">Surrey</span></st1:city><span style="font-family: Candara\; mso-bidi-font-family: Candara\; mso-ansi-language: EN-US">\, <st1:state w:st="on">BC</st1:state></span></st1:place><span style="font-family: Candara\; mso-bidi-font-family: Candara\; mso-ansi-language: EN-US"><o:p></o:p></span></font></span></font></span></p>\n<p align="center" class="MsoNormal" style="text-align: center\; margin: 5pt 0in\; mso-layout-grid-align: none">\n	<span style="font-family: Candara\; font-size: 11pt\; mso-bidi-font-family: Candara\; mso-ansi-language: EN-US"><font color="#000000"><span style="font-family: Candara\; mso-ansi-language: EN-US"><font size="3"><i><span style="font-family: Candara\; mso-bidi-font-family: Candara\; mso-ansi-language: EN-US">Special Note:</span></i><i><span style="font-family: Candara\; mso-ansi-language: EN-US"> </span></i><i><span style="font-family: Candara\; mso-bidi-font-family: Candara\; mso-ansi-language: EN-US">There will be time at the end\, so please bring your questions!</span></i><span style="font-family: Candara\; mso-ansi-language: EN-US"><o:p></o:p></span></font></span></font></span></p>\n<p align="center" class="MsoNormal" style="text-align: center\; margin: 5pt 0in\; mso-layout-grid-align: none">\n	<span style="font-family: Candara\; font-size: 11pt\; mso-bidi-font-family: Candara\; mso-ansi-language: EN-US"><font color="#000000"><span style="font-family: Candara\; mso-ansi-language: EN-US"><font size="3"><span style="font-family: Candara\; mso-bidi-font-family: Candara\; mso-ansi-language: EN-US">Please RSVP to Lisa Alamolholda <span style="mso-spacerun: yes">&nbsp\;</span><a href="mailto:lisa.alamolhoda@rbc.com">lisa.alamolhoda@rbc.com</a> by January 17th </span></font></span></font></span></p>\n<p align="center" class="MsoNormal" style="text-align: center\; margin: 0in 0in 0pt">\n	<span style="font-family: Candara\; font-size: 11pt\; mso-bidi-font-family: Candara\; mso-ansi-language: EN-US"><font color="#000000">&nbsp\;</font></span></p>\n<p align="center" class="MsoNormal" style="text-align: center\; margin: 5pt 0in\; mso-layout-grid-align: none">\n	&nbsp\;</p>\n
LOCATION:Morgan Creek Golf Course
UID:e.749.2532
SEQUENCE:3
DTSTAMP:20260426T011127Z
URL:https://business.swrbot.com/events/details/rbc-your-future-by-design-business-succession-planning-02-05-2014-2532
END:VEVENT

END:VCALENDAR
