BEGIN:VCALENDAR
VERSION:2.0
PRODID:-//ChamberMaster//Event Calendar 2.0//EN
METHOD:PUBLISH
X-PUBLISHED-TTL:P3D
REFRESH-INTERVAL:P3D
CALSCALE:GREGORIAN
BEGIN:VEVENT
DTSTART:20140319T004500Z
DTEND:20140319T033000Z
X-MICROSOFT-CDO-ALLDAYEVENT:FALSE
SUMMARY:Recognizing Incompetency
DESCRIPTION:Professionals in Estate Planning are invited to come and hear Dr. John Sloan\, UBC Clinical Professor\, author\, and expert in the care of the frail elderly\, address the topic of competency issues and the frail elderly.  He will discuss the challenges of health care in the home setting for the frail elderly and will particularly comment on difficulties with mental competency and suggested solutions.  Due to the introduction of WESA on March 31st\, this is an important topic for professionals in the Estate Planning field.  Please RSVP by March 14\, 2014
X-ALT-DESC;FMTTYPE=text/html:Professionals in Estate Planning are invited to come and hear Dr. John Sloan\, UBC Clinical Professor\, author\, and expert in the care of the frail elderly\, address the topic of competency issues and the frail elderly. &nbsp\;He will discuss the challenges of health care in the home setting for the frail elderly and will particularly comment on difficulties with mental competency and suggested solutions. &nbsp\;Due to the introduction of WESA on March 31st\, this is an important topic for professionals in the Estate Planning field. &nbsp\;Please RSVP by March 14\, 2014
LOCATION:Coyote Creek Golf Course (Eaglequest Golf) 7778 - 152nd Street\, Surrey\, BC
UID:e.749.2592
SEQUENCE:3
DTSTAMP:20260425T234958Z
URL:https://business.swrbot.com/events/details/recognizing-incompetency-03-18-2014-2592
END:VEVENT

END:VCALENDAR
