BEGIN:VCALENDAR
VERSION:2.0
PRODID:-//ChamberMaster//Event Calendar 2.0//EN
METHOD:PUBLISH
X-PUBLISHED-TTL:P3D
REFRESH-INTERVAL:P3D
CALSCALE:GREGORIAN
BEGIN:VEVENT
DTSTART:20140928T170000Z
DTEND:20140928T190000Z
X-MICROSOFT-CDO-ALLDAYEVENT:FALSE
SUMMARY:Relationship Circle
DESCRIPTION:How often have you wondered if there are others going through similar experiences when it comes to relationships\, either friends\, romantic or family? On the last Sunday of each month\, we will gather to support each other to develop the most positive relationships and talk about strategies that have worked for you\, so you can help others get to a better place in their relationships. This is a circle of trust where everyone comes without judgment. It is a time for openness\, to grow and learn from each other. Each month we will have a different theme that will be the basis for our conversations. Come join on the last Sunday of each month from 10am - 12pm in Surrey on September 28\, October 26 and November 30. Please reserve your space below for each month
X-ALT-DESC;FMTTYPE=text/html:How often have you wondered if there are others going through similar experiences when it comes to relationships\, either friends\, romantic or family? On the last Sunday of each month\, we will gather to support each other to develop the most positive relationships and talk about strategies that have worked for you\, so you can help others get to a better place in their relationships. This is a circle of trust where everyone comes without judgment. It is a time for openness\, to grow and learn from each other. Each month we will have a different theme that will be the basis for our conversations. Come join on the last Sunday of each month from 10am - 12pm in Surrey on September 28\, October 26 and November 30. Please reserve your space below for each month
LOCATION:Surrey - details upon registration
UID:e.749.2774
SEQUENCE:3
DTSTAMP:20260425T163652Z
URL:https://business.swrbot.com/events/details/relationship-circle-09-28-2014-2774
END:VEVENT

END:VCALENDAR
