BEGIN:VCALENDAR
VERSION:2.0
PRODID:-//ChamberMaster//Event Calendar 2.0//EN
METHOD:PUBLISH
X-PUBLISHED-TTL:P3D
REFRESH-INTERVAL:P3D
CALSCALE:GREGORIAN
BEGIN:VEVENT
DTSTART:20140326T020000Z
DTEND:20140326T050000Z
X-MICROSOFT-CDO-ALLDAYEVENT:FALSE
SUMMARY:Rhythm of the Dance
DESCRIPTION:Rhythm of the Dance is coming to the Abbotsford Entertainment & Sports Centre for one night only on Tuesday\, March 25 at 7:00pm. A National Dance Company of Ireland presentation\, the two-hour dance and music extravaganza contains a wealth of Irish talent and is an inspiring epic\, reliving the journey of the Irish Celts throughout history.\n\n \n\nTICKET PRICES: $20.25 | $30.25 | $40.25\n\nGroups of 10 + Can save 10% OFF Per Ticket!! Contact our Group Sales Department at Groupsales@abbotsfordcentre.ca or 604-743-5030
X-ALT-DESC;FMTTYPE=text/html:<p class="MsoNoSpacing"><span style="font-size: 14pt\; background-position: initial initial\; background-repeat: initial initial\;">Rhythm of the Dance is coming to the Abbotsford Entertainment &amp\; Sports Centre for one night only on Tuesday\, March 25 at 7:00pm. A National Dance Company of Ireland presentation\, the two-hour dance and music extravaganza contains a wealth of Irish talent and is an inspiring epic\, reliving the journey of the Irish Celts throughout history.<o:p></o:p></span></p>\n\n<p class="MsoNoSpacing"><b><span style="font-size: 14pt\; background-position: initial initial\; background-repeat: initial initial\;"><o:p>&nbsp\;</o:p></span></b></p>\n\n<p class="MsoNoSpacing"><b><span style="font-size: 14pt\; background-position: initial initial\; background-repeat: initial initial\;">TICKET PRICES: $20.25 | $30.25 | $40.25<o:p></o:p></span></b></p>\n\n<p class="MsoNoSpacing"><span style="font-size:14.0pt">Groups of 10 + Can save 10% OFF Per Ticket!! Contact our Group Sales Department at </span><a href="mailto:Groupsales@abbotsfordcentre.ca"><b><span style="font-size:14.0pt">Groupsales@abbotsfordcentre.ca</span></b></a><span style="font-size:14.0pt"> or 604-743-5030<o:p></o:p></span></p>\n
LOCATION:Abbotsford Entertainment & Sports Centre 33800 King Road Abbotsford\, BC V2S 8H8
UID:e.749.2600
SEQUENCE:3
DTSTAMP:20260425T235253Z
URL:https://business.swrbot.com/events/details/rhythm-of-the-dance-03-25-2014-2600
END:VEVENT

END:VCALENDAR
