BEGIN:VCALENDAR
VERSION:2.0
PRODID:-//ChamberMaster//Event Calendar 2.0//EN
METHOD:PUBLISH
X-PUBLISHED-TTL:P3D
REFRESH-INTERVAL:P3D
CALSCALE:GREGORIAN
BEGIN:VEVENT
DTSTART:20171110T013000Z
DTEND:20171110T040000Z
X-MICROSOFT-CDO-ALLDAYEVENT:FALSE
SUMMARY:Ribbon Cutting
DESCRIPTION:AN Global Consulting Limited is holding a Ribbon Cutting ceremony at its head office 2025 Willingdon Ave. Burnaby. Business consulting and corporate training will be provided to small and medium businesses in Surrey\, Burnaby\, and Vancouver\; www.anglobalconsulting.com
X-ALT-DESC;FMTTYPE=text/html:AN Global Consulting Limited is holding a Ribbon Cutting ceremony at its head office 2025 Willingdon Ave. Burnaby. Business consulting and corporate training will be provided to small and medium businesses in Surrey\, Burnaby\, and Vancouver\; www.anglobalconsulting.com
LOCATION:2025 Willingdon Ave\, ste. 900 Burnaby
UID:e.749.5525
SEQUENCE:3
DTSTAMP:20260421T192246Z
URL:https://business.swrbot.com/events/details/ribbon-cutting-11-09-2017-5525
END:VEVENT

END:VCALENDAR
