BEGIN:VCALENDAR
VERSION:2.0
PRODID:-//ChamberMaster//Event Calendar 2.0//EN
METHOD:PUBLISH
X-PUBLISHED-TTL:P3D
REFRESH-INTERVAL:P3D
CALSCALE:GREGORIAN
BEGIN:VEVENT
DTSTART:20141004T150000Z
DTEND:20141004T220000Z
X-MICROSOFT-CDO-ALLDAYEVENT:FALSE
SUMMARY:Ride for Refuge- Sources
DESCRIPTION:Ride with us on October 4\, 2014 in this cycling event that offers three distances\, 10\, 25 and 50 km.\n\nIf riding is not your thing then we also need volunteers.\n\nThis is a fundraising event for Sources Community Resource Society and other charities that benefit the displaced and vulnerable.
X-ALT-DESC;FMTTYPE=text/html:Ride with us on October 4\, 2014 in this cycling event that offers three distances\, 10\, 25 and 50 km.<br />\nIf riding is not your thing then we also need volunteers.<br />\nThis is a fundraising event for Sources Community Resource Society and other charities that benefit the displaced and vulnerable.
LOCATION:Kwantlen Polytechnic University-Cloverdale Campus 5088-180 Street\, Surrey
UID:e.749.2761
SEQUENCE:3
DTSTAMP:20260425T151515Z
URL:https://business.swrbot.com/events/details/ride-for-refuge-sources-10-04-2014-2761
END:VEVENT

END:VCALENDAR
