BEGIN:VCALENDAR
VERSION:2.0
PRODID:-//ChamberMaster//Event Calendar 2.0//EN
METHOD:PUBLISH
X-PUBLISHED-TTL:P3D
REFRESH-INTERVAL:P3D
CALSCALE:GREGORIAN
BEGIN:VEVENT
DTSTART:20160714T003000Z
DTEND:20160714T023000Z
X-MICROSOFT-CDO-ALLDAYEVENT:FALSE
SUMMARY:Rock My Business Plan BC - 2016 3-Part Startup Series - July 13\, July 20\, July 2
DESCRIPTION:Join Futurpreneur Canada's Entrepreneur In Residence\, Chad Fryling\, and a group of like-minded entrepreneurs in the same start-up stage as you\, for the ever-popular Rock My Business Plan. This is a 3-week business plan workshop designed to help entrepreneurs create a killer business plan in record time. If you're aged 18   39\, and are dead-serious about getting your start-up business off the ground or taking it to the next level\, you need to be here. We will cover 3Ms of a business plan: Mindset\, Market\, and Money. Expect networking\, strategic planning time\, and pointers on how to elevate your business right from the start. This session is for you if you: - Are 18 -39 years old - Have a strong business idea to flesh out OR recently launched - Are looking for a strategy and roadmap on next steps for your business - Want an opportunity for one-on-one taliored business coaching as you launch - Are looking for some money to get started and 2 years of mentorship after you launch How much is it? No charge\, for those considering a Futurpreneur Canada program*. Schedule: Wednesday July 13 from 5:30pm - 7:30pm Wednesday July 20 from 5:30pm - 7:30pm Wednesday July 27 from 5:30pm - 7:30pm
X-ALT-DESC;FMTTYPE=text/html:Join Futurpreneur Canada&#39\;s Entrepreneur In Residence\, Chad Fryling\, and a group of like-minded entrepreneurs in the same start-up stage as you\, for the ever-popular Rock My Business Plan. This is a 3-week business plan workshop designed to help entrepreneurs create a killer business plan in record time. If you&#39\;re aged 18 &ndash\; 39\, and are dead-serious about getting your start-up business off the ground or taking it to the next level\, you need to be here. We will cover 3Ms of a business plan: Mindset\, Market\, and Money. Expect networking\, strategic planning time\, and pointers on how to elevate your business right from the start. This session is for you if you: - Are 18 -39 years old - Have a strong business idea to flesh out OR recently launched - Are looking for a strategy and roadmap on next steps for your business - Want an opportunity for one-on-one taliored business coaching as you launch - Are looking for some money to get started and 2 years of mentorship after you launch How much is it? No charge\, for those considering a Futurpreneur Canada program*. Schedule: Wednesday July 13 from 5:30pm - 7:30pm Wednesday July 20 from 5:30pm - 7:30pm Wednesday July 27 from 5:30pm - 7:30pm
LOCATION:Futurpreneur Canada - Vancouver Office - 580 - 425 Carrall Street\, Vancouver\, BC V6B 6E3
UID:e.749.4959
SEQUENCE:3
DTSTAMP:20260424T083306Z
URL:https://business.swrbot.com/events/details/rock-my-business-plan-bc-2016-3-part-startup-series-july-13-july-20-july-2-07-13-2016-4959
END:VEVENT

END:VCALENDAR
