BEGIN:VCALENDAR
VERSION:2.0
PRODID:-//ChamberMaster//Event Calendar 2.0//EN
METHOD:PUBLISH
X-PUBLISHED-TTL:P3D
REFRESH-INTERVAL:P3D
CALSCALE:GREGORIAN
BEGIN:VEVENT
DTSTART:20160310T013000Z
DTEND:20160310T033000Z
X-MICROSOFT-CDO-ALLDAYEVENT:FALSE
SUMMARY:Rock My Business Plan BC - 2016 3-Part Startup Series - Mar. 9\, Mar. 16\, Mar. 23\, 2016
DESCRIPTION:A 3-week working group designed to help entrepreneurs aged 18   39 create a killer business plan in record time. \n\nThis is for you if you are serious about getting your start-up business off the ground\, or taking it to the next level in the next 3 months. It is all about getting together with like-minded people who are up to interesting things. Think of this as a chance for you to be a part of something bigger than the business you're starting up.\n\n\n\nFORMAT\n\n3 x two hour meetings\, held weekly at Futurpreneur Canada's Vancouver office in Gastown. Expect networking\, strategic planning breakout sessions\, and action plan development each week.\n\nHOW DO I QUALIFY?\n\nYou are 18 - 39 years old and have either recently launched or are ready to launch your business within 3 months. You are looking for help with your business plan\, and some money to get started + 2 years of mentorship after you launch. \n\nRegister via the link below   space is limited.\n\nSession 1: Wednesday\, Mar. 9th 5:30pm   7:30pm\n\nSession 2: Wednesday\, Mar. 16th 5:30pm   7:30pm\n\nSession 3: Wednesday\, Mar. 23rd 5:30pm   7:30pm (Pitch Day)
X-ALT-DESC;FMTTYPE=text/html:<span style="color:#333333"><span style="font-family:arial\,sans-serif"><span style="font-size:9.0pt">A 3-week working group designed to help entrepreneurs aged 18 &ndash\; 39 create a killer business plan in record time. </span></span></span><br />\n<span style="color:#333333"><span style="font-family:arial\,sans-serif"><span style="font-size:9.0pt">This is for you if you are serious about getting your start-up business off the ground\, or taking it to the next level in the next 3 months. It is all about getting together with like-minded people who are up to interesting things. Think of this as a chance for you to be a part of something bigger than the business you&rsquo\;re starting up.<br />\n<br />\nFORMAT<br />\n3 x two hour meetings\, held weekly at Futurpreneur Canada&rsquo\;s Vancouver office in Gastown. Expect networking\, strategic planning breakout sessions\, and action plan development each week.</span></span></span><br />\n<span style="color:#333333"><span style="font-family:arial\,sans-serif"><span style="font-size:9.0pt">HOW DO I QUALIFY?<br />\nYou are 18 - 39 years old and have either recently launched or are ready to launch your business within 3 months. You are looking for help with your business plan\, and some money to get started + 2 years of mentorship after you launch. </span></span></span><br />\n<span style="color:#333333"><span style="font-family:arial\,sans-serif"><span style="font-size:9.0pt">Register via the link below &ndash\; space is limited.</span></span></span><br />\n<span style="color:#333333"><span style="font-family:arial\,sans-serif"><span style="font-size:9.0pt">Session 1: Wednesday\, Mar. 9th 5:30pm &ndash\; 7:30pm<br />\nSession 2: Wednesday\, Mar. 16th 5:30pm &ndash\; 7:30pm<br />\nSession 3: Wednesday\, Mar. 23rd 5:30pm &ndash\; 7:30pm (Pitch Day)</span></span></span><br />\n&nbsp\;
LOCATION:Vancouver Office 580-425 Carrall Street\, Vancouver\, BC\, V6B 6E3
UID:e.749.4816
SEQUENCE:3
DTSTAMP:20260424T052534Z
URL:https://business.swrbot.com/events/details/rock-my-business-plan-bc-2016-3-part-startup-series-mar-9-mar-16-mar-23-2016-03-09-2016-4816
END:VEVENT

END:VCALENDAR
