BEGIN:VCALENDAR
VERSION:2.0
PRODID:-//ChamberMaster//Event Calendar 2.0//EN
METHOD:PUBLISH
X-PUBLISHED-TTL:P3D
REFRESH-INTERVAL:P3D
CALSCALE:GREGORIAN
BEGIN:VEVENT
DTSTART:20160213T040000Z
DTEND:20160213T053000Z
X-MICROSOFT-CDO-ALLDAYEVENT:FALSE
SUMMARY:Sal Ferreras and Drum Heat
DESCRIPTION:Sal Ferreras will bring together some of Surrey's most outstanding world music and jazz artists such as percussionists Gurp Sian\, Rayman and Karn Bhuller\, bassist Jodi Proznick and pianist Miles Black to stoke the musical fires of Drum Heat. Sal's name is synonymous with drumming in Vancouver\, and his highly acclaimed Drum Heat performances have electrified audiences and inspired a whole generation of musicians on the West Coast. Don't miss this spectacular evening featuring drum traditions from Latin America\, Brazil\, Cuba\, and India\, and filled with exuberant artistic output\, driving rhythm and evocative tunes\, all in support of Arts Umbrella Surrey.
X-ALT-DESC;FMTTYPE=text/html:Sal Ferreras will bring together some of Surrey&#39\;s most outstanding world music and jazz artists such as percussionists Gurp Sian\, Rayman and Karn Bhuller\, bassist Jodi Proznick and pianist Miles Black to stoke the musical fires of Drum Heat. Sal&#39\;s name is synonymous with drumming in Vancouver\, and his highly acclaimed Drum Heat performances have electrified audiences and inspired a whole generation of musicians on the West Coast. Don&#39\;t miss this spectacular evening featuring drum traditions from Latin America\, Brazil\, Cuba\, and India\, and filled with exuberant artistic output\, driving rhythm and evocative tunes\, all in support of Arts Umbrella Surrey.
LOCATION:Surrey Arts Centre
UID:e.749.4761
SEQUENCE:3
DTSTAMP:20260424T033411Z
URL:https://business.swrbot.com/events/details/sal-ferreras-and-drum-heat-02-12-2016-4761
END:VEVENT

END:VCALENDAR
