BEGIN:VCALENDAR
VERSION:2.0
PRODID:-//ChamberMaster//Event Calendar 2.0//EN
METHOD:PUBLISH
X-PUBLISHED-TTL:P3D
REFRESH-INTERVAL:P3D
CALSCALE:GREGORIAN
BEGIN:VEVENT
DTSTART:20161124T010000Z
DTEND:20161124T050000Z
X-MICROSOFT-CDO-ALLDAYEVENT:FALSE
SUMMARY:SBOT & BDC Youth Film & Dialogue
DESCRIPTION:BDC and the Surrey Board of Trade are proud to present the screening of the 45 minute documentary film The Millennial Dream plus a dialogue on what kinds of companies will succeed in the new economy.\n\nAs the Millennial generation becomes the most significant portion of our workforce\, what will change about what we want from our jobs\, our education\, and our companies to succeed in the new economy. What can cities and regions do to attract a new economy?\n\nIf the Millennial Dream is about doing well by doing good\, how do business owners need to adapt?  \n\nWe are pleased to have Greg Hemmings\, Director of the Millennial Dream\, & Founder of Hemmings House Pictures present http://hemmingshouse.com/. Our panel will also include Kevin Murray with Traction on Demand www.tractionondemand.com \n\n\n	5:00pm: Networking\, Appetizers\, Drinks\n	5:50pm: Introductions\n	6:00pm: The Millennial Dream\n	6:45pm: Panel Discussion moderated by Carla Heim\, Senior Advisor Social Entrepreneurship at BDC\n	7:15pm: Networking (cash bar)\n\n\nTo register please go to the Eventbrite Page.
X-ALT-DESC;FMTTYPE=text/html:<p><span style="font-size:12px"><span style="font-family:arial">BDC and the Surrey Board of Trade&nbsp\;are proud to present the screening of the 45 minute documentary film <b>The Millennial Dream</b> plus a dialogue on what kinds of companies will succeed in the new economy.</span></span></p>\n\n<p><span style="font-size:12px"><span style="font-family:arial">As the Millennial generation becomes the most significant portion of our workforce\, what will change about what we want from our jobs\, our education\, and our companies to succeed in the new economy. What can cities and regions do to attract a new economy?</span></span></p>\n\n<p><span style="font-size:12px"><span style="font-family:arial"><b>If&nbsp\;the Millennial Dream is about doing well by doing good\, how do business owners need to adapt?&nbsp\;&nbsp\;</b></span></span></p>\n\n<p><span style="font-size:12px"><span style="font-family:arial">We are pleased to have Greg Hemmings\, Director of the Millennial Dream\, &amp\; Founder of Hemmings House Pictures present <a data-saferedirecturl="https://www.google.com/url?hl=en&amp\;q=http://hemmingshouse.com/and&amp\;source=gmail&amp\;ust=1479421654703000&amp\;usg=AFQjCNEoS-QsK0ENqDkvWvreqJa8A6lZjA" href="http://hemmingshouse.com/and" rel="noopener noreferrer nofollow" target="_blank">http://hemmingshouse.com/</a>. Our panel will also include Kevin Murray with Traction on Demand <a data-saferedirecturl="https://www.google.com/url?hl=en&amp\;q=http://www.tractionondemand.com&amp\;source=gmail&amp\;ust=1479421654703000&amp\;usg=AFQjCNEboL2e46xM32HyoH713Btq9aBn0g" href="http://www.tractionondemand.com" rel="noopener noreferrer nofollow" target="_blank">www.tractionondemand.com</a> </span></span></p>\n\n<ul>\n	<li><span style="font-size:12px"><span style="font-family:arial"><span class="m_4771268241173253983m_-7914365380269523576m_-2826289172577025161aBn"><span class="m_4771268241173253983m_-7914365380269523576m_-2826289172577025161aQJ"><span class="m_4771268241173253983m_-7914365380269523576aBn"><span class="m_4771268241173253983m_-7914365380269523576aQJ"><span class="aBn" data-term="goog_1248863956" tabindex="0"><span class="aQJ">5:00pm</span></span></span></span></span></span>: Networking\,&nbsp\;Appetizers\, Drinks</span></span></li>\n	<li><span style="font-size:12px"><span style="font-family:arial"><span class="m_4771268241173253983m_-7914365380269523576m_-2826289172577025161aBn"><span class="m_4771268241173253983m_-7914365380269523576m_-2826289172577025161aQJ"><span class="m_4771268241173253983m_-7914365380269523576aBn"><span class="m_4771268241173253983m_-7914365380269523576aQJ"><span class="aBn" data-term="goog_1248863957" tabindex="0"><span class="aQJ">5:50pm</span></span></span></span></span></span>: Introductions</span></span></li>\n	<li><span style="font-size:12px"><span style="font-family:arial"><span class="m_4771268241173253983m_-7914365380269523576m_-2826289172577025161aBn"><span class="m_4771268241173253983m_-7914365380269523576m_-2826289172577025161aQJ"><span class="m_4771268241173253983m_-7914365380269523576aBn"><span class="m_4771268241173253983m_-7914365380269523576aQJ"><span class="aBn" data-term="goog_1248863958" tabindex="0"><span class="aQJ">6:00pm</span></span></span></span></span></span>: The Millennial Dream</span></span></li>\n	<li><span style="font-size:12px"><span style="font-family:arial"><span class="m_4771268241173253983m_-7914365380269523576m_-2826289172577025161aBn"><span class="m_4771268241173253983m_-7914365380269523576m_-2826289172577025161aQJ"><span class="m_4771268241173253983m_-7914365380269523576aBn"><span class="m_4771268241173253983m_-7914365380269523576aQJ"><span class="aBn" data-term="goog_1248863959" tabindex="0"><span class="aQJ">6:45pm</span></span></span></span></span></span>: Panel Discussion moderated by Carla Heim\, Senior Advisor Social Entrepreneurship at BDC</span></span></li>\n	<li><span style="font-size:12px"><span style="font-family:arial"><span class="m_4771268241173253983m_-7914365380269523576m_-2826289172577025161aBn"><span class="m_4771268241173253983m_-7914365380269523576m_-2826289172577025161aQJ"><span class="m_4771268241173253983m_-7914365380269523576aBn"><span class="m_4771268241173253983m_-7914365380269523576aQJ"><span class="aBn" data-term="goog_1248863960" tabindex="0"><span class="aQJ">7:15pm</span></span></span></span></span></span>: Networking (cash bar)</span></span></li>\n</ul>\n\n<p><span style="font-size:12px"><span style="font-family:arial">To register please go to the <a data-saferedirecturl="https://www.google.com/url?hl=en&amp\;q=https://www.eventbrite.com/e/the-millennial-dream-film-screening-in-surrey-tickets-28876572606&amp\;source=gmail&amp\;ust=1479421654703000&amp\;usg=AFQjCNGuouv7oq2gbQG35BYu6cRoC5UptQ" href="https://www.eventbrite.com/e/the-millennial-dream-film-screening-in-surrey-tickets-28876572606" target="_blank">Eventbrite Page</a>.</span></span></p>\n
LOCATION:Guildford Golf & Country Club 7929 152 Street Surrey\, BC V3S 3M5
UID:e.749.5159
SEQUENCE:3
DTSTAMP:20260422T082802Z
URL:https://business.swrbot.com/events/details/sbot-bdc-youth-film-dialogue-11-23-2016-5159
END:VEVENT

END:VCALENDAR
