BEGIN:VCALENDAR
VERSION:2.0
PRODID:-//ChamberMaster//Event Calendar 2.0//EN
METHOD:PUBLISH
X-PUBLISHED-TTL:P3D
REFRESH-INTERVAL:P3D
CALSCALE:GREGORIAN
BEGIN:VEVENT
DTSTART:20170419T230000Z
DTEND:20170420T003000Z
X-MICROSOFT-CDO-ALLDAYEVENT:FALSE
SUMMARY:SBoT Tourism & Culture Team
DESCRIPTION:Tourism & Culture Team Meeting will feature presentations from ArtsCan Resource Network and two other organizations. (Please fill in those names for us?)
X-ALT-DESC;FMTTYPE=text/html:Tourism &amp\; Culture Team Meeting will feature presentations from ArtsCan Resource Network and two other organizations. (Please fill in those names for us?)
LOCATION:Surrey Board of Trade Boardroom
UID:e.749.5310
SEQUENCE:3
DTSTAMP:20260422T023944Z
URL:https://business.swrbot.com/events/details/sbot-tourism-culture-team-04-19-2017-5310
END:VEVENT

END:VCALENDAR
