BEGIN:VCALENDAR
VERSION:2.0
PRODID:-//ChamberMaster//Event Calendar 2.0//EN
METHOD:PUBLISH
X-PUBLISHED-TTL:P3D
REFRESH-INTERVAL:P3D
CALSCALE:GREGORIAN
BEGIN:VEVENT
DTSTART:20140908T170000Z
DTEND:20140912T220000Z
X-MICROSOFT-CDO-ALLDAYEVENT:FALSE
SUMMARY:School Strike Camp
DESCRIPTION:The Schools maybe still on strike into September ...and you're wondering what to do with the kids so they are learning and having fun..... Urban Safari is offering a 'Strike' camp. It is open to kids age 6 to 12 yrs. and is on a drop-in basis. BUT please let us know at least the day before you are coming. Camp will start Monday Sept. 8 to Friday Sept. 12. - 10 AM to 3 PM. $40 per day plus 5% GST. Each day will be full of animal adventures\, learning about animals\, crafts\, games\, and much more. Learn what lizard can lick his own eyeballs\, learn about the different stages of tadpoles to frogs\, have rat races\, have tortoise races ( weather permitting )\, make hand painted t'shirts\, and many other crafts. There is so much to learn!! Call Sharon at 604 531-1100 with your questions and to register or email info@urbansafari.ca
X-ALT-DESC;FMTTYPE=text/html:The Schools maybe still on strike into September ...and you&#39\;re wondering what to do with the kids so they are learning and having fun..... Urban Safari is offering a &#39\;Strike&#39\; camp. It is open to kids age 6 to 12 yrs. and is on a drop-in basis. BUT please let us know at least the day before you are coming. Camp will start Monday Sept. 8 to Friday Sept. 12. - 10 AM to 3 PM. $40 per day plus 5% GST. Each day will be full of animal adventures\, learning about animals\, crafts\, games\, and much more. Learn what lizard can lick his own eyeballs\, learn about the different stages of tadpoles to frogs\, have rat races\, have tortoise races ( weather permitting )\, make hand painted t&#39\;shirts\, and many other crafts. There is so much to learn!! Call Sharon at 604 531-1100 with your questions and to register or email info@urbansafari.ca
LOCATION:Urban Safari Rescue Society 1395 176th St. Surrey BC
UID:e.749.2746
SEQUENCE:3
DTSTAMP:20260425T163236Z
URL:https://business.swrbot.com/events/details/school-strike-camp-09-08-2014-2746
END:VEVENT

END:VCALENDAR
