BEGIN:VCALENDAR
VERSION:2.0
PRODID:-//ChamberMaster//Event Calendar 2.0//EN
METHOD:PUBLISH
X-PUBLISHED-TTL:P3D
REFRESH-INTERVAL:P3D
CALSCALE:GREGORIAN
BEGIN:VEVENT
DTSTART:20150503T160000Z
DTEND:20150503T200000Z
X-MICROSOFT-CDO-ALLDAYEVENT:FALSE
SUMMARY:Scotiabank MS Walk - Surrey
DESCRIPTION:Canada has the highest rate of MS in the world. The Scotiabank MS Walk is a signature fundraising event for the MS Society\, BC & Yukon Division. Funds raised at the event go to support programs and services for people living with MS as well as vital MS research. Get Your Business Involved! The MS Walk is a fantastic event to get your employees engaged and active in the community they work or live in. You can also support the MS Walk by donating a prize\, food item for lunch of breakfast\, cash donation\, employee matching or on-site sponsorship. Register your team today at www.mswalks.ca or call Stephanie Mosher at 604-602-3208 for more information of how your business can get involved!
X-ALT-DESC;FMTTYPE=text/html:Canada has the highest rate of MS in the world. The Scotiabank MS Walk is a signature fundraising event for the MS Society\, BC &amp\; Yukon Division. Funds raised at the event go to support programs and services for people living with MS as well as vital MS research. Get Your Business Involved! The MS Walk is a fantastic event to get your employees engaged and active in the community they work or live in. You can also support the MS Walk by donating a prize\, food item for lunch of breakfast\, cash donation\, employee matching or on-site sponsorship. Register your team today at www.mswalks.ca or call Stephanie Mosher at 604-602-3208 for more information of how your business can get involved!
LOCATION:Bear Creek Park - 13750 88 Avenue
UID:e.749.3570
SEQUENCE:3
DTSTAMP:20260423T133209Z
URL:https://business.swrbot.com/events/details/scotiabank-ms-walk-surrey-05-03-2015-3570
END:VEVENT

END:VCALENDAR
