BEGIN:VCALENDAR
VERSION:2.0
PRODID:-//ChamberMaster//Event Calendar 2.0//EN
METHOD:PUBLISH
X-PUBLISHED-TTL:P3D
REFRESH-INTERVAL:P3D
CALSCALE:GREGORIAN
BEGIN:VEVENT
DTSTART:20170810T030000Z
DTEND:20170827T053000Z
X-MICROSOFT-CDO-ALLDAYEVENT:FALSE
SUMMARY:Sea of Stories
DESCRIPTION:Produced by Peninsula Productions in partnership with the City of White Rock and funding from Canada 150. This summer in celebration of Canada's 150th anniversary\, Peninsula Productions presents Sea of Stories\, a musical about life in small town Canada. The play centers around the history of White Rock\, it's people\, it's triumphs\, and it's challenges.
X-ALT-DESC;FMTTYPE=text/html:Produced by Peninsula Productions in partnership with the City of White Rock and funding from Canada 150. This summer in celebration of Canada&rsquo\;s 150th anniversary\, Peninsula Productions presents Sea of Stories\, a musical about life in small town Canada. The play centers around the history of White Rock\, it&rsquo\;s people\, it&rsquo\;s triumphs\, and it&rsquo\;s challenges.
LOCATION:Coast Capital Playhouse (1532 Johnston Road)
UID:e.749.5394
SEQUENCE:3
DTSTAMP:20260421T215548Z
URL:https://business.swrbot.com/events/details/sea-of-stories-08-09-2017-5394
END:VEVENT

END:VCALENDAR
