BEGIN:VCALENDAR
VERSION:2.0
PRODID:-//ChamberMaster//Event Calendar 2.0//EN
METHOD:PUBLISH
X-PUBLISHED-TTL:P3D
REFRESH-INTERVAL:P3D
CALSCALE:GREGORIAN
BEGIN:VEVENT
DTSTART:20141112T173000Z
DTEND:20141114T003000Z
X-MICROSOFT-CDO-ALLDAYEVENT:FALSE
SUMMARY:Season of Trees
DESCRIPTION:Mini-version: Season of Trees is an event where businesses and citizens can sponsor\, decorate\, or view beautiful trees. Proceeds go support children. Interested sponsors and volunteers can contact Ben Ngo at 604-542-7593 or at bngo@sourcesbc.ca for details.
X-ALT-DESC;FMTTYPE=text/html:Mini-version: Season of Trees is an event where businesses and citizens can sponsor\, decorate\, or view beautiful trees. Proceeds go support children. Interested sponsors and volunteers can contact Ben Ngo at 604-542-7593 or at bngo@sourcesbc.ca for details.
LOCATION:Sheraton Guildford Hotel 15269 104 Ave Surrey\, BC V3R 1N5
UID:e.749.2814
SEQUENCE:3
DTSTAMP:20260425T140214Z
URL:https://business.swrbot.com/events/details/season-of-trees-11-12-2014-2814
END:VEVENT

END:VCALENDAR
