BEGIN:VCALENDAR
VERSION:2.0
PRODID:-//ChamberMaster//Event Calendar 2.0//EN
METHOD:PUBLISH
X-PUBLISHED-TTL:P3D
REFRESH-INTERVAL:P3D
CALSCALE:GREGORIAN
BEGIN:VEVENT
DTSTART;VALUE=DATE:20150521
DTEND;VALUE=DATE:20150522
TRANSP:TRANSPARENT
X-MICROSOFT-CDO-ALLDAYEVENT:TRUE
SUMMARY:Security Vulnerability Reduction Workshop
DESCRIPTION:This one day program will address the concepts of threat\, risk\, it's impact and how they relate to vulnerability.  It will identify how these elements can be quantified and qualified and what role they play with the respect to vulnerability.  Regardless of the driver\, people\, process\, or technology - it needs to be addressed.\n\n\n\nThis programs draws on the experience of The Banks Group Inc.\, their work in the ASIS International Physical Security Council and recognizes leading practices in all enviornments. \n\n\n\nBy the end of the day participants will have a template to assist them in their reduction strategies.
X-ALT-DESC;FMTTYPE=text/html:This one day program will address the concepts of threat\, risk\, it&#39\;s impact and how they relate to vulnerability.&nbsp\; It will identify how these elements can be quantified and qualified and what role they play with the respect to vulnerability.&nbsp\; Regardless of the driver\, people\, process\, or technology - it needs to be addressed.<br />\n<br />\nThis programs draws on the experience of The Banks Group Inc.\, their work in the ASIS International Physical Security Council and recognizes leading practices in all enviornments.&nbsp\;<br />\n<br />\nBy the end of the day participants will have a template to assist them in their reduction strategies.
LOCATION:Lexxon Training 1650 -13401 -108th Ave Surrey\, BC
UID:e.749.3574
SEQUENCE:3
DTSTAMP:20260423T132354Z
URL:https://business.swrbot.com/events/details/security-vulnerability-reduction-workshop-05-21-2015-3574
END:VEVENT

END:VCALENDAR
