BEGIN:VCALENDAR
VERSION:2.0
PRODID:-//ChamberMaster//Event Calendar 2.0//EN
METHOD:PUBLISH
X-PUBLISHED-TTL:P3D
REFRESH-INTERVAL:P3D
CALSCALE:GREGORIAN
BEGIN:VEVENT
DTSTART:20160901T190000Z
DTEND:20160902T030000Z
X-MICROSOFT-CDO-ALLDAYEVENT:FALSE
SUMMARY:Semiahmoo House Society and Investors Group 10th Annual Charity Golf Tournament
DESCRIPTION:In support of Semiahmoo House Society's Recreation and Leisure Services  providing adapted and specialized activities for youth and adults with disabilities.
X-ALT-DESC;FMTTYPE=text/html:In support of Semiahmoo House Society&rsquo\;s Recreation and Leisure Services&ndash\; providing adapted and specialized activities for youth and adults with disabilities.
LOCATION:Morgan Creek Golf Course 3500 Morgan Creek Way\, Surrey BC
UID:e.749.4955
SEQUENCE:3
DTSTAMP:20260424T052621Z
URL:https://business.swrbot.com/events/details/semiahmoo-house-society-and-investors-group-10th-annual-charity-golf-tournament-09-01-2016-4955
END:VEVENT

END:VCALENDAR
