BEGIN:VCALENDAR
VERSION:2.0
PRODID:-//ChamberMaster//Event Calendar 2.0//EN
METHOD:PUBLISH
X-PUBLISHED-TTL:P3D
REFRESH-INTERVAL:P3D
CALSCALE:GREGORIAN
BEGIN:VEVENT
DTSTART:20140204T180000Z
DTEND:20140204T193000Z
X-MICROSOFT-CDO-ALLDAYEVENT:FALSE
SUMMARY:Seminar: ACI eManifest
DESCRIPTION:Pacific Customs Brokers will be offering an ACI eManifest session for carriers and self-carrying importers. This session will answer questions\, offer practical solutions and help assist with preparation for the ACI eManifest regulations to take effect. The intent of the ACI Program is to provide Canada Border Services Agency (CBSA) officers with electronic pre-arrival cargo and conveyance\, shipper and importer data prior to arrival at the border. This session will be of interest to: truck owners and operators\, self-carry importers\, operation managers\, drivers\, dispatchers\, and shippers. When ACI eManifest-enabling regulations are expected to be in place\, requirements will be mandatory and non-compliant carriers could be subject to penalties. Additionally\, it is important to note that even though you may be set up for ACE eManifest into the USA you will still be required to set up for ACI eManfiest into Canada.
X-ALT-DESC;FMTTYPE=text/html:<p class="MsoNormal">\n	<span lang="EN-CA" style="font-size:11.0pt\;font-family:&quot\;Calibri&quot\;\,&quot\;sans-serif&quot\;">Pacific Customs Brokers will be offering an ACI eManifest session for carriers and self-carrying importers. This session will answer questions\, offer practical solutions and help assist with preparation for the ACI eManifest regulations to take effect. The intent of the ACI Program is to provide Canada Border Services Agency (CBSA) officers with electronic pre-arrival cargo and conveyance\, shipper and importer data prior to arrival at the border. This session will be of interest to: truck owners and operators\, self-carry importers\, operation managers\, drivers\, dispatchers\, and shippers. When ACI eManifest-enabling regulations are expected to be in place\, requirements will be mandatory and non-compliant carriers could be subject to penalties. Additionally\, it is important to note that even though you may be set up for ACE eManifest into the USA you will still be required to set up for ACI eManfiest into Canada.<o:p></o:p></span></p>\n
LOCATION:Pacific Customs Brokers - Seminar Room 101-17637 1st Avenue\, Surrey\, BC
UID:e.749.2512
SEQUENCE:3
DTSTAMP:20260426T010841Z
URL:https://business.swrbot.com/events/details/seminar-aci-emanifest-02-04-2014-2512
END:VEVENT

END:VCALENDAR
