BEGIN:VCALENDAR
VERSION:2.0
PRODID:-//ChamberMaster//Event Calendar 2.0//EN
METHOD:PUBLISH
X-PUBLISHED-TTL:P3D
REFRESH-INTERVAL:P3D
CALSCALE:GREGORIAN
BEGIN:VEVENT
DTSTART:20141002T160000Z
DTEND:20141002T210000Z
X-MICROSOFT-CDO-ALLDAYEVENT:FALSE
SUMMARY:Seminar: C-TPAT and PIP
DESCRIPTION:Pacific Customs Brokers is offering a combined seminar on C-TPAT and PIP. This session will be of interest to importers\, business owners\, compliance managers\, operation managers\, warehouse managers\, freight consolidators\, foreign manufacturers and carriers. Both programs are voluntary government-business initiatives to build cooperative relationships that strengthen and improve overall international supply chain and border security. Learn about the requirements of these two programs and how to become a partner and trusted trader with U.S. Customs and Border Protection and Canada Border Services Agency.
X-ALT-DESC;FMTTYPE=text/html:Pacific Customs Brokers is offering a combined seminar on C-TPAT and PIP. This session will be of interest to importers\, business owners\, compliance managers\, operation managers\, warehouse managers\, freight consolidators\, foreign manufacturers and carriers. Both programs are voluntary government-business initiatives to build cooperative relationships that strengthen and improve overall international supply chain and border security. Learn about the requirements of these two programs and how to become a partner and trusted trader with U.S. Customs and Border Protection and Canada Border Services Agency.
LOCATION:Pacific Customs Brokers - Seminar Room 101-17637 1st Avenue\, Surrey\, BC
UID:e.749.2752
SEQUENCE:3
DTSTAMP:20260425T152542Z
URL:https://business.swrbot.com/events/details/seminar-c-tpat-and-pip-10-02-2014-2752
END:VEVENT

END:VCALENDAR
