BEGIN:VCALENDAR
VERSION:2.0
PRODID:-//ChamberMaster//Event Calendar 2.0//EN
METHOD:PUBLISH
X-PUBLISHED-TTL:P3D
REFRESH-INTERVAL:P3D
CALSCALE:GREGORIAN
BEGIN:VEVENT
DTSTART:20140320T160000Z
DTEND:20140320T190000Z
X-MICROSOFT-CDO-ALLDAYEVENT:FALSE
SUMMARY:Seminar: Canada Customs Audit
DESCRIPTION:If your business is exporting or importing goods into the Canada\, whether you are a Resident or a Non-Resident Importer (NRI)\, you should be aware that at some point\, you are likely to be selected for an audit process by Canada Border Services Agency. Pacific Customs Brokers is offering a seminar on evaluating your understanding of compliance with Customs regulations. This session will be of interest to all Importers\, Non-Resident or Resident Business Owners\, Controllers\, Operational and Compliance Managers\, Purchasing Managers and Logistics Managers.\n\n	 \n\n	*5 CCS points towards maintenance of the CCS/CTCS designation will be awarded by the Canadian Society of Customs Brokers.
X-ALT-DESC;FMTTYPE=text/html:<div>\n	If your business is exporting or importing goods into the Canada\, whether you are a Resident or a Non-Resident Importer (NRI)\, you should be aware that at some point\, you are likely to be selected for an audit process by Canada Border Services Agency. Pacific Customs Brokers is offering a seminar on evaluating your understanding of compliance with Customs regulations. This session will be of interest to all Importers\, Non-Resident or Resident Business Owners\, Controllers\, Operational and Compliance Managers\, Purchasing Managers and Logistics Managers.</div>\n<div>\n	&nbsp\;</div>\n<div>\n	*5 CCS points towards maintenance of the CCS/CTCS designation will be awarded by the Canadian Society of Customs Brokers.&nbsp\;</div>\n<div>\n	&nbsp\;</div>\n
LOCATION:Pacific Customs Brokers - Seminar Room 101-17637 1st Avenue\, Surrey\, BC
UID:e.749.2518
SEQUENCE:3
DTSTAMP:20260425T235048Z
URL:https://business.swrbot.com/events/details/seminar-canada-customs-audit-03-20-2014-2518
END:VEVENT

END:VCALENDAR
